BEGIN:VCALENDAR
VERSION:2.0
PRODID:-//ChamberMaster//Event Calendar 2.0//EN
METHOD:PUBLISH
X-PUBLISHED-TTL:P3D
REFRESH-INTERVAL:P3D
CALSCALE:GREGORIAN
BEGIN:VEVENT
DTSTART:20191004T220000Z
DTEND:20191004T230000Z
X-MICROSOFT-CDO-ALLDAYEVENT:FALSE
SUMMARY:Date Night Barre Class
DESCRIPTION:you loved it so much\, we?re bringing it back - with a twist! grab your partner and join us for a sweat + shake class. we'll have drinks and light refreshments after class\, and yes\, we?re begging our neighbor to make those brownies again. for added incentive\, mens' apparel is here\, we'll now carry Lululemon for the guys in your life and if they don't come already\, this will be a great chance for them to see what there is to offer.\ncost: $30/couple\, members take 20% off.
X-ALT-DESC;FMTTYPE=text/html:you loved it so much\, we?re bringing it back - with a twist! grab your partner and join us for a sweat + shake class. we'll have drinks and light refreshments after class\, and yes\, we?re begging our neighbor to make those brownies again. for added incentive\, mens' apparel is here\, we'll now carry Lululemon for the guys in your life and if they don't come already\, this will be a great chance for them to see what there is to offer.\ncost: $30/couple\, members take 20% off.
LOCATION:The Daily Sweat Yoga + Barre 65 Portland RD\, Building A\, Unit D Kennebunk\, ME 04043
UID:e.1923.13470
SEQUENCE:3
DTSTAMP:20260424T140606Z
URL:https://chamber.gokennebunks.com/events/details/date-night-barre-class-13470
END:VEVENT

END:VCALENDAR
