BEGIN:VCALENDAR
VERSION:2.0
PRODID:-//ChamberMaster//Event Calendar 2.0//EN
METHOD:PUBLISH
X-PUBLISHED-TTL:P3D
REFRESH-INTERVAL:P3D
CALSCALE:GREGORIAN
BEGIN:VEVENT
DTSTART:20250726T133000Z
DTEND:20250727T203000Z
X-MICROSOFT-CDO-ALLDAYEVENT:FALSE
SUMMARY:Daniel Tiger Visits Seashore
DESCRIPTION:Maine Public and Seashore Trolley Museum are excited to welcome Daniel Tiger\, from the PBS KIDS series Daniel Tiger's Neighborhood\, back for a visit at Seashore on Saturday/Sunday July 26 and 27! Tickets are still available on both days for the 12:30PM and later admission times.\n\nHop on a trolley shuttle to Highwood Carhouse to meet Daniel and Seashore's very own Biddeford & Saco trolley No. 31 to visit and take photos with Daniel and this special trolley car. Enjoy other activities around the Museum campus\, including Maine Public Television's fun activity tent and decorate your own Daniel Tiger sugar cookies! Guests can also visit our regular Museum exhibits and displays\, as well as ride trolleys on our private 3.5-mile round trip heritage railroad!\n\nTickets are $15 per person\; children two (2) and under are FREE. Seashore Trolley Museum members are also free! A Seashore Trolley Museum Family Membership for up to five family members is just $60/year. Join today at www.trolleymuseum.org and email finance@trolleymuseum.org for your discount code.\n\nThis event will be held rain or shine. Tickets may be transferred to another guest or family\, but no refunds will be issued. No transfers\, time changes\, or any other ticket changes will be possible after 5PM on Friday\, July\, 25th.\n\nOn July 26th and 27th\, the Museum will be open from 9:30AM-4:30PM. The time on your ticket is the time your trolley shuttle to meet Daniel Tiger will depart. Guests are encouraged to take advantage of all of the other activities\, exhibits and displays at the Museum during your visit! We will announce on-site food options closer to the date or pack a picnic lunch to enjoy at one of several locations around our beautiful campus.\n\nWe ask that guests arrive at the Museum at least 15 minutes prior to your departure time to ensure ample time for parking and checking in at our Registration Tent\, which will be located between our Visitors Center and Tower C\, visible from our parking lot. Stroller parking will be available near Tower C.\n\nIf you have any questions\, please contact our Operations Manager at (207) 967-2800 x110 or email events@trolleymuseum.org\n\nThank you for your interest in our event and thank you for supporting Seashore Trolley Museum and Maine Public!
X-ALT-DESC;FMTTYPE=text/html:<p>Maine Public and Seashore Trolley Museum are excited to welcome Daniel Tiger\, from the PBS KIDS series Daniel Tiger&rsquo\;s Neighborhood\, back for a visit at Seashore on Saturday/Sunday July 26 and 27!&nbsp\;<strong>Tickets are still available on both days for the 12:30PM and later admission times.</strong></p>\n\n<p>Hop on a trolley shuttle to Highwood Carhouse to meet Daniel and Seashore&rsquo\;s very own Biddeford &amp\; Saco trolley No. 31 to visit and take photos with Daniel and this special trolley car. Enjoy other activities around the Museum campus\, including Maine Public Television&rsquo\;s fun activity tent and decorate your own Daniel Tiger sugar cookies! Guests can also visit our regular Museum exhibits and displays\, as well as ride trolleys on our private 3.5-mile round trip heritage railroad!</p>\n\n<p>Tickets are $15 per person\; children two (2) and under are FREE. Seashore Trolley Museum members are also free! A Seashore Trolley Museum Family Membership for up to five family members is just $60/year. Join today at www.trolleymuseum.org and email&nbsp\;finance@trolleymuseum.org&nbsp\;for your discount code.</p>\n\n<p>This event will be held rain or shine. Tickets may be transferred to another guest or family\, but no refunds will be issued.&nbsp\;<strong>No transfers\, time changes\, or any other ticket changes will be possible after 5PM on Friday\, July\, 25th.</strong></p>\n\n<p>On July 26th and 27th\, the Museum will be open from 9:30AM-4:30PM. The time on your ticket is the time your trolley shuttle to meet Daniel Tiger will depart. Guests are encouraged to take advantage of all of the other activities\, exhibits and displays at the Museum during your visit! We will announce on-site food options closer to the date or pack a picnic lunch to enjoy at one of several locations around our beautiful campus.</p>\n\n<p>We ask that guests arrive at the Museum at least 15 minutes prior to your departure time to ensure ample time for parking and checking in at our Registration Tent\, which will be located between our Visitors Center and Tower C\, visible from our parking lot. Stroller parking will be available near Tower C.</p>\n\n<p>If you have any questions\, please contact our Operations Manager at (207) 967-2800 x110 or email&nbsp\;events@trolleymuseum.org</p>\n\n<p>Thank you for your interest in our event and thank you for supporting Seashore Trolley Museum and Maine Public!</p>\n
LOCATION:Seashore Trolley Museum 195 Log Cabin Road Kennebunkport\, ME 04046
UID:e.1923.33958
SEQUENCE:3
DTSTAMP:20260421T074405Z
URL:https://chamber.gokennebunks.com/events/details/daniel-tiger-visits-seashore-07-26-2025-33958
END:VEVENT

END:VCALENDAR
