BEGIN:VCALENDAR
VERSION:2.0
PRODID:-//ChamberMaster//Event Calendar 2.0//EN
METHOD:PUBLISH
X-PUBLISHED-TTL:P3D
REFRESH-INTERVAL:P3D
CALSCALE:GREGORIAN
BEGIN:VEVENT
DTSTART;VALUE=DATE:20230722
DTEND;VALUE=DATE:20230724
TRANSP:TRANSPARENT
X-MICROSOFT-CDO-ALLDAYEVENT:TRUE
SUMMARY:Daniel Tiger Visits Seashore
DESCRIPTION:Maine Public and Seashore Trolley Museum are excited to welcome Daniel Tiger\, from the PBS KIDS series Daniel Tiger's Neighborhood\, back for a visit at Seashore on Saturday/Sunday July 22 and 23!\n\nHop on a trolley shuttle to Highwood Carhouse to meet Daniel and Seashore's very own Biddeford & Saco Car 31 to visit and take photos with Daniel and this special trolley car. Enjoy other activities around the Museum campus\, including Maine Public Television's fun activity tent and make your own Daniel Tiger sugar cookies! Guests can also visit our regular Museum exhibits and displays\, as well as ride trolleys on our private 3-mile round trip heritage railroad!\n\nThis event will be held rain or shine. Tickets may be transferred to another guest or family\, but no refunds will be issued. No transfers\, time changes\, or any other ticket changes will be possible after 5PM on Friday\, July\, 21st.\n\nOn July 22nd and 23rd\, the Museum will be open from 9:30AM-4:30PM\, and Daniel Tiger will be visiting with us from 11AM-4PM. Tickets will be sold at 15-minute intervals for the shuttle ride to meet Daniel Tiger at Highwood Carhouse\; we ask that guests arrive at the Museum at least 15 minutes prior to boarding time to ensure ample time for parking and checking in at our Registration Tent\, which will be located between our Visitors Center and Tower C\, visible from our parking lot. Stroller parking will be available near Tower C.\n\nGuests are welcome to arrive earlier and stay later to take advantage of all of the other activities\, exhibits and displays at the Museum! Pack a picnic lunch (we have 3 picnic areas with picnic tables\, and plenty of lawn space for lawn chairs/blankets) or purchase a hot dog/ mac and cheese lunch and other snacks/juice boxes/water at our Trolley Fare!\n\nTickets are $13 per person\; children two (2) and under are FREE.\n\nSeashore Trolley Museum has a Mobilift to help guests with mobility challenges access our trolleys. The Mobilift is compatible with trolleys that will be operating on our regular railway during the event\, but not on the shuttles that will take families to Highwood Carhouse to meet Daniel. There is an access road families can use to drive or walk to Highwood\; please email events@trolleymuseum.org to let us know if you would like to take advantage of this option.\n\nIf you have any questions\, please contact Alissa at (207) 967-2800 x110 or email finance@trolleymuseum.org\n\nThank you for your interest in our event\, and thank you for supporting Seashore Trolley Museum and Maine Public!
X-ALT-DESC;FMTTYPE=text/html:Maine Public and Seashore Trolley Museum are excited to welcome Daniel Tiger\, from the PBS KIDS series Daniel Tiger&rsquo\;s Neighborhood\, back for a visit at Seashore on Saturday/Sunday July 22 and 23!<br />\nHop on a trolley shuttle to Highwood Carhouse to meet Daniel and Seashore&#39\;s very own Biddeford &amp\; Saco Car 31 to visit and take photos with Daniel and this special trolley car. Enjoy other activities around the Museum campus\, including Maine Public Television&#39\;s fun activity tent and make your own Daniel Tiger sugar cookies! Guests can also visit our regular Museum exhibits and displays\, as well as ride trolleys on our private 3-mile round trip heritage railroad!<br />\nThis event will be held rain or shine. Tickets may be transferred to another guest or family\, but no refunds will be issued.&nbsp\;No transfers\, time changes\, or any other ticket changes will be possible after 5PM on Friday\, July\, 21st.<br />\nOn July 22nd and 23rd\, the Museum will be open from 9:30AM-4:30PM\, and Daniel Tiger will be visiting with us from 11AM-4PM. Tickets will be sold at 15-minute intervals for the shuttle ride to meet Daniel Tiger at Highwood Carhouse\; we ask that guests arrive at the Museum at least 15 minutes prior to boarding time to ensure ample time for parking and checking in at our Registration Tent\, which will be located between our Visitors Center and Tower C\, visible from our parking lot. Stroller parking will be available near Tower C.<br />\nGuests are welcome to arrive earlier and stay later to take advantage of all of the other activities\, exhibits and displays at the Museum! Pack a picnic lunch (we have 3 picnic areas with picnic tables\, and plenty of lawn space for lawn chairs/blankets) or purchase a hot dog/ mac and cheese lunch and other snacks/juice boxes/water at our Trolley Fare!<br />\nTickets are $13 per person\; children two (2) and under are FREE.<br />\nSeashore Trolley Museum has a Mobilift to help guests with mobility challenges access our trolleys. The Mobilift is compatible with trolleys that will be operating on our regular railway during the event\, but not on the shuttles that will take families to Highwood Carhouse to meet Daniel. There is an access road families can use to drive or walk to Highwood\; please email&nbsp\;<a href="mailto:events@trolleymuseum.org" target="_blank">events@trolleymuseum.org</a>&nbsp\;to let us know if you would like to take advantage of this option.<br />\nIf you have any questions\, please contact Alissa at (207) 967-2800 x110 or email&nbsp\;<a href="mailto:finance@trolleymuseum.org" target="_blank">finance@trolleymuseum.org</a><br />\nThank you for your interest in our event\, and thank you for supporting Seashore Trolley Museum and Maine Public!
LOCATION:Seashore Trolley Museum 195 Log Cabin Road Kennebunkport\, ME 04046
UID:e.1923.19091
SEQUENCE:3
DTSTAMP:20260422T050231Z
URL:https://chamber.gokennebunks.com/events/details/daniel-tiger-visits-seashore-07-22-2023-19091
END:VEVENT

END:VCALENDAR
