BEGIN:VCALENDAR
VERSION:2.0
PRODID:-//ChamberMaster//Event Calendar 2.0//EN
METHOD:PUBLISH
X-PUBLISHED-TTL:P3D
REFRESH-INTERVAL:P3D
CALSCALE:GREGORIAN
BEGIN:VEVENT
DTSTART:20240812T130000Z
DTEND:20240814T150000Z
X-MICROSOFT-CDO-ALLDAYEVENT:FALSE
SUMMARY:DANCE CAMP
DESCRIPTION:9:00AM-11:00AM\n\nAUGUST 12-14 (3 days)\n\nGrades K-2\n\nInstructor: Abby Nolette\n\nIn this camp\, we'll have fun exploring different styles of dance. We'll have a different themed class every day that includes arts\, crafts\, games\, and lots of dance fun!\n\nMax attendees: 8\n\n\n\nREGISTER HERE: https://rivertree.app.neoncrm.com/np/clients/rivertree/event.jsp?event=12506&\n\n\n\nMembers: $100 | Non-Members: $110 (all supplies included)
X-ALT-DESC;FMTTYPE=text/html:<p><strong>9:00AM-11:00AM<br />\nAUGUST 12-14 (3 days)<br />\nGrades K-2</strong><br />\n<em>Instructor:&nbsp\;Abby Nolette</em></p>\n\n<p>In this camp\, we&rsquo\;ll have fun exploring different styles of dance. We&rsquo\;ll have a different themed class every day that includes arts\, crafts\, games\, and lots of dance fun!</p>\n\n<p>Max attendees: 8<br />\n<br />\nREGISTER HERE:&nbsp\;<a href="https://rivertree.app.neoncrm.com/np/clients/rivertree/event.jsp?event=12506&amp\;">https://rivertree.app.neoncrm.com/np/clients/rivertree/event.jsp?event=12506&amp\;</a><br />\n<br />\nMembers: $100 | Non-Members: $110 (all supplies included)</p>\n
LOCATION:River Tree Arts\, 35 Western Ave.\, Kennebunk\, Maine
UID:e.1923.24535
SEQUENCE:3
DTSTAMP:20260421T124038Z
URL:https://chamber.gokennebunks.com/events/details/dance-camp-08-12-2024-24535
END:VEVENT

END:VCALENDAR
