BEGIN:VCALENDAR
VERSION:2.0
PRODID:-//ChamberMaster//Event Calendar 2.0//EN
METHOD:PUBLISH
X-PUBLISHED-TTL:P3D
REFRESH-INTERVAL:P3D
CALSCALE:GREGORIAN
BEGIN:VEVENT
DTSTART:20250531T233000Z
DTEND:20250601T013000Z
X-MICROSOFT-CDO-ALLDAYEVENT:FALSE
SUMMARY:Curbside Queens Presents: Planet Pride! A kickoff to Biddeford Pride
DESCRIPTION:Arrive on Planet Pride and get ready for an adventure of a lifetime! The Curbside Queens are back at City Theater with this new Out Of This World Production! Pride owns the galaxy baby! CQ has put together a fantastic drag and burlesque show to kickoff our celebrations. Now is the time to be seen and heard\, loud and Proud in every corner of this Queer Universe! 16+ with supervision. Show contains adult themes and language\, and burlesque
X-ALT-DESC;FMTTYPE=text/html:Arrive on Planet Pride and get ready for an adventure of a lifetime! The Curbside Queens are back at City Theater with this new Out Of This World Production! Pride owns the galaxy baby! CQ has put together a fantastic drag and burlesque show to kickoff our celebrations. Now is the time to be seen and heard\, loud and Proud in every corner of this Queer Universe! 16+ with supervision. Show contains adult themes and language\, and burlesque
LOCATION:Biddeford City Theater 205 Main Street Biddeford\, ME 04005
UID:e.1923.34205
SEQUENCE:3
DTSTAMP:20260421T045913Z
URL:https://chamber.gokennebunks.com/events/details/curbside-queens-presents-planet-pride-a-kickoff-to-biddeford-pride-34205
END:VEVENT

END:VCALENDAR
