BEGIN:VCALENDAR
VERSION:2.0
PRODID:-//ChamberMaster//Event Calendar 2.0//EN
METHOD:PUBLISH
X-PUBLISHED-TTL:P3D
REFRESH-INTERVAL:P3D
CALSCALE:GREGORIAN
BEGIN:VEVENT
DTSTART:20240601T190000Z
DTEND:20240601T210000Z
X-MICROSOFT-CDO-ALLDAYEVENT:FALSE
SUMMARY:CURBSIDE QUEENS PRESENT A LIVE DRAG SPECTACULAR
DESCRIPTION:I want my CQTV!! Don't touch that dial\, 'cause the Curbside Queens are back with a brand new live show! In a world where media is controlled by the high elite\, the CQ crew is taking over the airwaves in 3D right in front of your eyes! Drag\, burlesque and dynamic visual effects are the name of the game\, so come see the spectacular stage show that all of New England is raving about!
X-ALT-DESC;FMTTYPE=text/html:I want my CQTV!! Don&rsquo\;t touch that dial\, &#39\;cause the Curbside Queens are back with a brand new live show! In a world where media is controlled by the high elite\, the CQ crew is taking over the airwaves in 3D right in front of your eyes! Drag\, burlesque and dynamic visual effects are the name of the game\, so come see the spectacular stage show that all of New England is raving about!
LOCATION:205 Main Street Biddeford ME 04005
UID:e.1923.24572
SEQUENCE:3
DTSTAMP:20260421T140121Z
URL:https://chamber.gokennebunks.com/events/details/curbside-queens-present-a-live-drag-spectacular-24572
END:VEVENT

END:VCALENDAR
