BEGIN:VCALENDAR
VERSION:2.0
PRODID:-//ChamberMaster//Event Calendar 2.0//EN
METHOD:PUBLISH
X-PUBLISHED-TTL:P3D
REFRESH-INTERVAL:P3D
CALSCALE:GREGORIAN
BEGIN:VEVENT
DTSTART:20231230T010000Z
DTEND:20231230T030000Z
X-MICROSOFT-CDO-ALLDAYEVENT:FALSE
SUMMARY:CURBSIDE QUEENS AND CITY THEATER PRESENT: NEW YEAR'S EVE 2023 DRAG SHOW
DESCRIPTION:Maine's #1 Traveling Drag Show is back at City Theater! Join the Curbside Queens for an evening of letting go of the past and embracing the future. Say good riddance 2023 and welcome 2024 with open arms with this fabulous drag spectacular\, sure to delight and wow! Dress to impress in your best party outfit\, this is a night that is all about the Glitz and Glam!" Additional Info Disclaimer: This show contains adult content\, sexual themes\, and strong language which may not be suitable for all audience members\, including children. Please use your own judgement as to whether this event is appropriate for yourself or others for whom you may be buying tickets.
X-ALT-DESC;FMTTYPE=text/html:Maine&#39\;s #1 Traveling Drag Show is back at City Theater! Join the Curbside Queens for an evening of letting go of the past and embracing the future. Say good riddance 2023 and welcome 2024 with open arms with this fabulous drag spectacular\, sure to delight and wow! Dress to impress in your best party outfit\, this is a night that is all about the Glitz and Glam!&quot\; Additional Info Disclaimer: This show contains adult content\, sexual themes\, and strong language which may not be suitable for all audience members\, including children. Please use your own judgement as to whether this event is appropriate for yourself or others for whom you may be buying tickets.
LOCATION:Biddeford City Theater 205 Main Street Biddeford\, ME 04005
UID:e.1923.22446
SEQUENCE:3
DTSTAMP:20260421T221538Z
URL:https://chamber.gokennebunks.com/events/details/curbside-queens-and-city-theater-present-new-year-s-eve-2023-drag-show-22446
END:VEVENT

END:VCALENDAR
