BEGIN:VCALENDAR
VERSION:2.0
PRODID:-//ChamberMaster//Event Calendar 2.0//EN
METHOD:PUBLISH
X-PUBLISHED-TTL:P3D
REFRESH-INTERVAL:P3D
CALSCALE:GREGORIAN
BEGIN:VEVENT
DTSTART:20180420T130000Z
DTEND:20180420T190000Z
X-MICROSOFT-CDO-ALLDAYEVENT:FALSE
SUMMARY:Cumberland Foreside Beautiful Home Furnishings Estate Sale
DESCRIPTION:Cumberland Foreside Beautiful Home Furnishings Estate Sale\n\n\n\nThe family is moving and selling a great selection of\n\nfurniture and home decor items.  \n\nFeaturing an upright Victorian-Style Piano.\n\n\n\nCumberlaned Foreside\n\nThree-Day Estate Sale\n\nApril 20-22\, 2018\n\nFriday\, Saturday\, Sunday\n\n9am - 3pm Daily\n\n\n\nFull Description and Pictures can be found on our website:\n\n\n\nwww.antiquesandestatesalesme.com\n\n\n\nFMI:\n\nLittle River Antiques & Estate Sales\, LLC\n\nSandy Gnidziejko\n\nsgnidzie@maine.rr.com\n\n\n\nSpecific address posted day before the estate sale on our website.\n\n\n\nBe the FIRST in LINE and BRING the WHOLE Family!\n\n\n\nProviding Complete Estate Liquidation Services and Personal Property Appraisals.\n\nNow in Our 10th Year!
X-ALT-DESC;FMTTYPE=text/html:<div style="text-align:center"><br />\n<span style="font-size:18px">Cumberland Foreside Beautiful Home Furnishings Estate Sale<br />\n<br />\nThe family is moving and selling a great selection of<br />\nfurniture and home decor items. &nbsp\;<br />\nFeaturing an upright Victorian-Style Piano.<br />\n<br />\n<span style="color:#0000FF">Cumberlaned Foreside<br />\nThree-Day Estate Sale</span><br />\n<span style="color:#FF0000">April 20-22\, 2018</span><br />\n<span style="color:#0000FF">Friday\, Saturday\, Sunday<br />\n9am - 3pm Daily</span><br />\n<br />\nFull Description and Pictures can be found on our website:<br />\n<br />\nwww.antiquesandestatesalesme.com<br />\n<br />\nFMI:<br />\nLittle River Antiques &amp\; Estate Sales\, LLC<br />\nSandy Gnidziejko<br />\nsgnidzie@maine.rr.com<br />\n<br />\n<em>Specific address posted day before the estate sale on our website.<br />\n<br />\n<span style="font-size:14px"><span style="color:#0000FF">Be the FIRST in LINE and BRING the WHOLE Family!</span><br />\n<br />\n<span style="color:#FF0000">Providing Complete Estate Liquidation Services and Personal Property Appraisals.<br />\nNow in Our 10th Year!</span></span></em></span><br />\n<br />\n&nbsp\;</div>\n\n<div style="text-align:center">&nbsp\;</div>\n
LOCATION:Mary Lane Cumberland Foreside\, ME
UID:e.1923.9781
SEQUENCE:3
DTSTAMP:20260425T172641Z
URL:https://chamber.gokennebunks.com/events/details/cumberland-foreside-beautiful-home-furnishings-estate-sale-04-20-2018-9781
END:VEVENT

END:VCALENDAR
