BEGIN:VCALENDAR
VERSION:2.0
PRODID:-//ChamberMaster//Event Calendar 2.0//EN
METHOD:PUBLISH
X-PUBLISHED-TTL:P3D
REFRESH-INTERVAL:P3D
CALSCALE:GREGORIAN
BEGIN:VEVENT
DTSTART:20250328T220000Z
DTEND:20250329T000000Z
X-MICROSOFT-CDO-ALLDAYEVENT:FALSE
SUMMARY:Crystal Beaded Bracelets & Ceramic Trinket Dish Workshop
DESCRIPTION:Crystal Beaded Bracelets & Ceramic Trinket Dish Workshop\n\nJoin us for a creative and relaxing workshop where you'll design your own crystal beaded bracelets and paint a ceramic trinket dish to match!\n\nFirst half of the class\, you'll paint a ceramic trinket dish to complement your new jewelry. Choose your colors and designs to create a special place to store your handmade pieces. Dishes will be glazed and ready to take home the night of the event.\n\nSecond half of class\, Katie from Blue Dahlia will guide you through the process of creating two unique bracelets using a variety of beautiful crystals such as amethyst\, rose quartz\, amazonite\, jade\, jasper\, and more. Whether you choose crystals for their meaning or simply for their beauty\, you'll be able to personalize your bracelets with spacers and charms for a truly one-of-a-kind piece.\n\nNo experience is necessary just bring your creativity and enjoy a fun\, hands-on experience! All materials are included.\n\nBYOB is ok.
X-ALT-DESC;FMTTYPE=text/html:<p><strong>Crystal Beaded Bracelets &amp\; Ceramic Trinket Dish Workshop</strong></p>\n\n<p>Join us for a creative and relaxing workshop where you&rsquo\;ll design your own crystal beaded bracelets and paint a ceramic trinket dish to match!</p>\n\n<p>First half of the class\, you&rsquo\;ll paint a ceramic trinket dish to complement your new jewelry. Choose your colors and designs to create a special place to store your handmade pieces. Dishes will be glazed and ready to take home the night of the event.</p>\n\n<p>Second half of class\, Katie from Blue Dahlia will guide you through the process of creating two unique bracelets using a variety of beautiful crystals such as amethyst\, rose quartz\, amazonite\, jade\, jasper\, and more. Whether you choose crystals for their meaning or simply for their beauty\, you&rsquo\;ll be able to personalize your bracelets with spacers and charms for a truly one-of-a-kind piece.</p>\n\n<p>No experience is necessary&mdash\;just bring your creativity and enjoy a fun\, hands-on experience! All materials are included.</p>\n\n<p>BYOB is ok.</p>\n
LOCATION:The Creative Soul 2 Christensen Ln Kennebunk\, ME
UID:e.1923.33272
SEQUENCE:3
DTSTAMP:20260420T230425Z
URL:https://chamber.gokennebunks.com/events/details/crystal-beaded-bracelets-ceramic-trinket-dish-workshop-3-28-25-33272
END:VEVENT

END:VCALENDAR
