BEGIN:VCALENDAR
VERSION:2.0
PRODID:-//ChamberMaster//Event Calendar 2.0//EN
METHOD:PUBLISH
X-PUBLISHED-TTL:P3D
REFRESH-INTERVAL:P3D
CALSCALE:GREGORIAN
BEGIN:VEVENT
DTSTART;VALUE=DATE:20250527
DTEND;VALUE=DATE:20250528
TRANSP:TRANSPARENT
X-MICROSOFT-CDO-ALLDAYEVENT:TRUE
SUMMARY:Crusin Night- Tuesday Car Shows at Bentley's Saloon
DESCRIPTION:Free to enter and Free to attend! All entrants are entered to win the Tool Box at the Season End Car show.  We do raffle prizes every car show and a 50/50 with proceeds to go to the Town Christmas Fund!
X-ALT-DESC;FMTTYPE=text/html:Free to enter and Free to attend! All entrants are entered to win the Tool Box at the Season End Car show.&nbsp\; We do raffle prizes every car show and a 50/50 with proceeds to go to the Town Christmas Fund!
LOCATION:1601 Portland Road\, Arundel ME 04046
UID:e.1923.34691
SEQUENCE:3
DTSTAMP:20260421T050147Z
URL:https://chamber.gokennebunks.com/events/details/crusin-night-tuesday-car-shows-at-bentley-s-saloon-05-27-2025-34691
END:VEVENT

END:VCALENDAR
