BEGIN:VCALENDAR
VERSION:2.0
PRODID:-//ChamberMaster//Event Calendar 2.0//EN
METHOD:PUBLISH
X-PUBLISHED-TTL:P3D
REFRESH-INTERVAL:P3D
CALSCALE:GREGORIAN
BEGIN:VEVENT
DTSTART:20250710T200000Z
DTEND:20250711T170000Z
X-MICROSOFT-CDO-ALLDAYEVENT:FALSE
SUMMARY:Creative Inspiration and Details with Carly Glovinski
DESCRIPTION:Carly will lead an interactive demonstration in the Museum's gardens\, activating the sculpture grounds as a space for creative inspiration. Drawing on OMAA's history as the site of two significant art communities where artists studied and interpreted the natural landscape to process contemporary world events this class will explore how the micro (flora\, snippets of color) can help us make sense of the macro through en plein air painting.
X-ALT-DESC;FMTTYPE=text/html:<span style="color:rgb(121\, 121\, 121)\; font-family:futura-pt\,helvetica\,arial\,sans-serif\; font-size:18px">Carly will lead an interactive demonstration in the Museum&rsquo\;s gardens\, activating the sculpture grounds as a space for creative inspiration. Drawing on OMAA&rsquo\;s history as the site of two significant art communities&mdash\;where artists studied and interpreted the natural landscape to process contemporary world events&mdash\;this class will explore how the micro (flora\, snippets of color) can help us make sense of the macro&nbsp\;through en&nbsp\;plein air painting.&nbsp\;</span>
LOCATION:543 Shore Road\, Ogunquit Maine
UID:e.1923.37528
SEQUENCE:3
DTSTAMP:20260421T073446Z
URL:https://chamber.gokennebunks.com/events/details/creative-inspiration-and-details-with-carly-glovinski-37528
END:VEVENT

END:VCALENDAR
