BEGIN:VCALENDAR
VERSION:2.0
PRODID:-//ChamberMaster//Event Calendar 2.0//EN
METHOD:PUBLISH
X-PUBLISHED-TTL:P3D
REFRESH-INTERVAL:P3D
CALSCALE:GREGORIAN
BEGIN:VEVENT
DTSTART:20241213T230000Z
DTEND:20241214T013000Z
X-MICROSOFT-CDO-ALLDAYEVENT:FALSE
SUMMARY:Create Your Very Own Seaglass Christmas Tree
DESCRIPTION:Create Your Own Sea Glass Christmas Tree!\n\nJoin us at Salt & Sand Fine Art for a festive\, hands-on class where you'll craft a beautiful sea glass Christmas tree perfect for your holiday d cor or for gifting!\n\nGet into the holiday spirit by crafting a unique decoration using beautiful sea glass pieces. Let your creativity shine as you design a one-of-a-kind tree to display in your home this holiday season or give as a gift. Don't miss out on this fun and crafty experience!\n\nDetails:   Dates: Dec 13\, 2024\n\n  Time: 6:00PM - 8:30 PM\n\n  Cost: $85 (includes all supplies and expert instruction)\n\n  Class Size: Limited to 10 people\n\n  BYOB: Bring your favorite beverage to sip while you create!\n\nPlease note this is not recommended for children because we will be using sharp objects and hot glue.\n\nLooking for a more intimate experience? Book a private class for a group of 8-10!\n\nWhether you're planning a fun ladies' night or a couples-only evening\, bring your friends and enjoy a personalized creative experience. Message us for more details and availability.\n\nSign up today and craft something truly special this holiday season\n\nFollow link to sign up\n\nhttps://square.link/u/7dmB4ZzB?src=sheet
X-ALT-DESC;FMTTYPE=text/html:<div>Create Your Own Sea Glass Christmas Tree!<br />\nJoin us at Salt &amp\; Sand Fine Art for a festive\, hands-on class where you&rsquo\;ll craft a beautiful sea glass Christmas tree&mdash\;perfect for your holiday d&eacute\;cor or for gifting!<br />\nGet into the holiday spirit by crafting a unique decoration using beautiful sea glass pieces. Let your creativity shine as you design a one-of-a-kind tree to display in your home this holiday season or give as a gift. Don&rsquo\;t miss out on this fun and crafty experience!<br />\nDetails: &bull\; Dates: Dec 13\, 2024<br />\n&bull\; Time: 6:00PM - 8:30 PM<br />\n&bull\; Cost: $85 (includes all supplies and expert instruction)<br />\n&bull\; Class Size: Limited to 10 people<br />\n&bull\; BYOB: Bring your favorite beverage to sip while you create!</div>\n\n<div>Please note this is not recommended for children because we will be using sharp objects and hot glue.</div>\n\n<div>Looking for a more intimate experience? Book a private class for a group of 8-10!<br />\nWhether you&rsquo\;re planning a fun ladies&rsquo\; night or a couples-only evening\, bring your friends and enjoy a personalized creative experience. Message us for more details and availability.</div>\n\n<div>Sign up today and craft something truly special this holiday season<br />\nFollow link to sign up<br />\n<a href="https://square.link/u/7dmB4ZzB?src=sheet">https://square.link/u/7dmB4ZzB?src=sheet</a></div>\n
LOCATION:
UID:e.1923.31135
SEQUENCE:3
DTSTAMP:20260421T020422Z
URL:https://chamber.gokennebunks.com/events/details/create-your-very-own-seaglass-christmas-tree-31135
END:VEVENT

END:VCALENDAR
