BEGIN:VCALENDAR
VERSION:2.0
PRODID:-//ChamberMaster//Event Calendar 2.0//EN
METHOD:PUBLISH
X-PUBLISHED-TTL:P3D
REFRESH-INTERVAL:P3D
CALSCALE:GREGORIAN
BEGIN:VEVENT
DTSTART:20191116T150000Z
DTEND:20191116T170000Z
X-MICROSOFT-CDO-ALLDAYEVENT:FALSE
SUMMARY:Cranberry Walk
DESCRIPTION:Take a crisp hike on the Wells Reserve's Muskie Trail to discover the world of cranberries. Find out what this bog-loving plant needs to grow and thrive\, how it is used in food and medicine\, and what it means to wildlife.
X-ALT-DESC;FMTTYPE=text/html:Take a crisp hike on the Wells Reserve&rsquo\;s Muskie Trail to discover the world of cranberries. Find out what this bog-loving plant needs to grow and thrive\, how it is used in food and medicine\, and what it means to wildlife.
LOCATION:
UID:e.1923.15517
SEQUENCE:3
DTSTAMP:20260424T124358Z
URL:https://chamber.gokennebunks.com/events/details/cranberry-walk-15517
END:VEVENT

END:VCALENDAR
