BEGIN:VCALENDAR
VERSION:2.0
PRODID:-//ChamberMaster//Event Calendar 2.0//EN
METHOD:PUBLISH
X-PUBLISHED-TTL:P3D
REFRESH-INTERVAL:P3D
CALSCALE:GREGORIAN
BEGIN:VEVENT
DTSTART:20180726T213000Z
DTEND:20180726T230000Z
X-MICROSOFT-CDO-ALLDAYEVENT:FALSE
SUMMARY:Cool Treat on the Hot Trolley
DESCRIPTION:Cool Treat on the Trolley Thursdays" \n\nIce cream rides at 5:30\, 6:15 & 7:00 pm
X-ALT-DESC;FMTTYPE=text/html:<strong><span style="color:black"><span style="font-family:gisha">Cool Treat on the Trolley Thursdays&rdquo\; </span></span></strong><br />\n<span style="color:black"><span style="font-family:gisha">Ice cream rides at 5:30\, 6:15 &amp\; 7:00 pm</span></span><br />\n&nbsp\;
LOCATION:Seashore Trolley Museum\, 195 Log Cabin Rd\, Kennebunkport
UID:e.1923.7218
SEQUENCE:3
DTSTAMP:20260425T133105Z
URL:https://chamber.gokennebunks.com/events/details/cool-treat-on-the-hot-trolley-07-26-2018-7218
END:VEVENT

END:VCALENDAR
