BEGIN:VCALENDAR
VERSION:2.0
PRODID:-//ChamberMaster//Event Calendar 2.0//EN
METHOD:PUBLISH
X-PUBLISHED-TTL:P3D
REFRESH-INTERVAL:P3D
CALSCALE:GREGORIAN
BEGIN:VEVENT
DTSTART:20231208T150000Z
DTEND:20231208T160000Z
X-MICROSOFT-CDO-ALLDAYEVENT:FALSE
SUMMARY:COOKIE DECORATING STORY TIME
DESCRIPTION:Friday\, December 8 at 10 AM. Cookie Decorating Story Time. Let's decorate a holiday cookie. All supplies provided. The Louis T. Graves Memorial Public Library is located at 18 Maine Street\, Kennebunkport. For further information\, please call 967-2778 or visit our website at www.graveslibrary.org.
X-ALT-DESC;FMTTYPE=text/html:<span style="font-family:arial\,sans-serif">Friday\, December 8 at 10 AM. <strong>Cookie Decorating Story Time</strong>. Let&rsquo\;s decorate a holiday cookie. All supplies provided. The Louis T. Graves Memorial Public Library is located at 18 Maine Street\, Kennebunkport. For further information\, please call 967-2778 or visit our website at </span><a href="http://www.graveslibrary.org/"><span style="color:windowtext"><span style="font-family:arial\,sans-serif">www.graveslibrary.org</span></span></a><span style="font-family:arial\,sans-serif">.</span>
LOCATION:Louis T. Graves Memorial Public Library
UID:e.1923.23144
SEQUENCE:3
DTSTAMP:20260421T220716Z
URL:https://chamber.gokennebunks.com/events/details/cookie-decorating-story-time-23144
END:VEVENT

END:VCALENDAR
