BEGIN:VCALENDAR
VERSION:2.0
PRODID:-//ChamberMaster//Event Calendar 2.0//EN
METHOD:PUBLISH
X-PUBLISHED-TTL:P3D
REFRESH-INTERVAL:P3D
CALSCALE:GREGORIAN
BEGIN:VEVENT
DTSTART;VALUE=DATE:20220716
DTEND;VALUE=DATE:20220717
TRANSP:TRANSPARENT
X-MICROSOFT-CDO-ALLDAYEVENT:TRUE
SUMMARY:Connecticut Day at Seashore Trolley Museum
DESCRIPTION:All aboard! Join us for Connecticut Day and take a ride on our restored fleet trolleys that operated in that state in the early 1900s. Residents from Connecticut will receive 50% off admission. Purchase tickets at the door to take advantage of this discount.
X-ALT-DESC;FMTTYPE=text/html:<p>All aboard! Join us for Connecticut Day and take a ride on our restored fleet trolleys that operated in that state in the early 1900s. Residents from Connecticut will receive 50% off admission. Purchase tickets at the door to take advantage of this discount.</p>\n
LOCATION:Seashore Trolley Museum 195 Log Cabin Road Kennebunkport\, ME 04046
UID:e.1923.17447
SEQUENCE:3
DTSTAMP:20260419T192149Z
URL:https://chamber.gokennebunks.com/events/details/connecticut-day-at-seashore-trolley-museum-17447
END:VEVENT

END:VCALENDAR
