BEGIN:VCALENDAR
VERSION:2.0
PRODID:-//ChamberMaster//Event Calendar 2.0//EN
METHOD:PUBLISH
X-PUBLISHED-TTL:P3D
REFRESH-INTERVAL:P3D
CALSCALE:GREGORIAN
BEGIN:VEVENT
DTSTART:20230815T200000Z
DTEND:20230816T000000Z
X-MICROSOFT-CDO-ALLDAYEVENT:FALSE
SUMMARY:Congdon's After Dark Tithing Tuesday Benefits The New School
DESCRIPTION:On August 15\, 2023\, Congdon's After Dark will generously donate 10% of its sales proceeds to The New School\, a Kennebunk-based independent high school dedicated to empowering students to become responsible stewards of our world. The New School encourages everyone to mark their calendars for Tuesday\, August 15\, 2023\, and show their support by visiting Congdon's After Dark between 4:00-8:00 p.m. The more funds that are raised\, the farther The New School students will be able to explore during the spring Intensive program.
X-ALT-DESC;FMTTYPE=text/html:On August 15\, 2023\, Congdon&#39\;s After Dark will generously donate 10% of its sales proceeds to The New School\, a Kennebunk-based independent high school dedicated to empowering students to become responsible stewards of our world. The New School encourages everyone to mark their calendars for Tuesday\, August 15\, 2023\, and show their support by visiting Congdon&#39\;s After Dark between 4:00-8:00 p.m. The more funds that are raised\, the farther The New School students will be able to explore during the spring Intensive program.
LOCATION:Congdon's After Dark 1100 Post Road Wells\, ME 04090
UID:e.1923.22391
SEQUENCE:3
DTSTAMP:20260422T034151Z
URL:https://chamber.gokennebunks.com/events/details/congdon-s-after-dark-tithing-tuesday-benefits-the-new-school-22391
END:VEVENT

END:VCALENDAR
