BEGIN:VCALENDAR
VERSION:2.0
PRODID:-//ChamberMaster//Event Calendar 2.0//EN
METHOD:PUBLISH
X-PUBLISHED-TTL:P3D
REFRESH-INTERVAL:P3D
CALSCALE:GREGORIAN
BEGIN:VEVENT
DTSTART:20250803T210000Z
DTEND:20250803T221500Z
X-MICROSOFT-CDO-ALLDAYEVENT:FALSE
SUMMARY:Concerto Delle Donne at St. Ann's Kennebunkport
DESCRIPTION:St. Ann's Kennebunkport 2025 Benefit Concert -- August 3\, 5:00 to 6:15pm\n\n\n\nSt. Ann's By The Sea in Kennebunkport\, ME will be hosting an exciting concert 'Concerto Delle Donne' in the oceanfront Stone Chapel. Directed by Ian Watson\, the performance will feature world-class vocalists and authentic period instruments. The public is invited to hear this memorable performance in a spectacular setting. Proceeds will benefit the St. Ann's Church preservation fund.\n\n\n\nPerformed by three virtuoso female voices accompanied by harpsichord\, works to include:\n\n	Ai sospiri al dolore by Luigi Rossi\n	Fan Battaglia by Luigi Rossi\n	Disperate speranze by Luigi Rossi\n	Speranza\, al tuo pallore by Luigi Rossi\n	Occhi\, del pianto mio by Luzzasco Luzzaschi\n	Folle cor by Domenico Mazzocchi\n	Ohime\, ch'io cado by Claudio Monteverdi\n	Non sa\, che sia dolore by Luzzasco Luzzaschi
X-ALT-DESC;FMTTYPE=text/html:<strong>St. Ann&#39\;s Kennebunkport 2025 Benefit Concert -- August 3\, 5:00 to 6:15pm</strong><br />\n<br />\nSt. Ann&rsquo\;s By The Sea in Kennebunkport\, ME will be hosting an exciting concert &#39\;<strong>Concerto Delle Donne</strong>&#39\;&nbsp\;in the oceanfront Stone Chapel. Directed by Ian Watson\, the performance will feature world-class vocalists and authentic period instruments. The public is invited to hear this memorable performance in a spectacular setting. Proceeds will benefit the St. Ann&rsquo\;s Church preservation fund.<br />\n<br />\nPerformed by three virtuoso female voices accompanied by harpsichord\, works to include:\n<ul>\n	<li>Ai sospiri al dolore by Luigi Rossi</li>\n	<li>Fan Battaglia by Luigi Rossi</li>\n	<li>Disperate speranze by Luigi Rossi</li>\n	<li>Speranza\, al tuo pallore by Luigi Rossi</li>\n	<li>Occhi\, del pianto mio by Luzzasco Luzzaschi</li>\n	<li>Folle cor by Domenico Mazzocchi</li>\n	<li>Ohime\, ch&rsquo\;io cado by Claudio Monteverdi</li>\n	<li>Non sa\, che sia dolore by Luzzasco Luzzaschi</li>\n</ul>\n\n<div>\n<p>&nbsp\;</p>\n</div>\n
LOCATION:167 Ocean Ave\, Kennebunkport\, ME 04046
UID:e.1923.33941
SEQUENCE:3
DTSTAMP:20260421T164251Z
URL:https://chamber.gokennebunks.com/events/details/concerto-delle-donna-at-st-ann-s-kennebunkport-33941
END:VEVENT

END:VCALENDAR
