BEGIN:VCALENDAR
VERSION:2.0
PRODID:-//ChamberMaster//Event Calendar 2.0//EN
METHOD:PUBLISH
X-PUBLISHED-TTL:P3D
REFRESH-INTERVAL:P3D
CALSCALE:GREGORIAN
BEGIN:VEVENT
DTSTART:20240325T123000Z
DTEND:20240325T133000Z
X-MICROSOFT-CDO-ALLDAYEVENT:FALSE
SUMMARY:Complete Yoga Series
DESCRIPTION:I am introducing the Lisa Mitchell Healing space to the Kennebunkport community with this four-week pre-registered yoga series. Join me and five other people to breathe\, move\, and meditate together. This offering is a delightful way to start your week by creating space for yourself and connecting to you. My Complete Yoga Class starts with an embodied check in\, followed by dynamic movement\, a restorative posture\, and a short meditation. Some basic yoga experience is recommended.
X-ALT-DESC;FMTTYPE=text/html:<div>I am introducing the Lisa Mitchell Healing space to the Kennebunkport community with this four-week pre-registered yoga series. Join me and five other people to breathe\, move\, and meditate together. This offering is a delightful way to start your week by creating space for yourself and connecting to you. My Complete Yoga Class starts with an embodied check in\, followed by dynamic movement\, a restorative posture\, and a short meditation. Some basic yoga experience is recommended.</div>\n
LOCATION:Lisa Mitchell Healing\, Kennebunkport\, ME
UID:e.1923.24484
SEQUENCE:3
DTSTAMP:20260421T180609Z
URL:https://chamber.gokennebunks.com/events/details/complete-yoga-series-03-25-2024-24484
END:VEVENT

END:VCALENDAR
