BEGIN:VCALENDAR
VERSION:2.0
PRODID:-//ChamberMaster//Event Calendar 2.0//EN
METHOD:PUBLISH
X-PUBLISHED-TTL:P3D
REFRESH-INTERVAL:P3D
CALSCALE:GREGORIAN
BEGIN:VEVENT
DTSTART:20200731T220000Z
DTEND:20200731T230000Z
X-MICROSOFT-CDO-ALLDAYEVENT:FALSE
SUMMARY:$5 DONATION community sweat + flow
DESCRIPTION:join fellow member Katie as she preps + prepares for her 200 HR YTT graduation. this is a great opportunity to try out the studio\, donate to a great cause (COS) + see what our community is all about. \n\n---\n\nsweat + flow description: sweat + flow is our spin on a vinyasa/flow class. classes are set to music that will ebb and flow with your heart rate as we take you through breath work\, sun salutations\, yummy heart melting pose\, and everything in between. So come find your groove\, belt out a little Whitney Houston if it's in you and let your to-do list melt away as you carve out one hour just for you.
X-ALT-DESC;FMTTYPE=text/html:<p>join fellow member Katie as she preps + prepares for her 200 HR YTT graduation. this is a great opportunity to try out the studio\, donate to a great cause (COS) + see what our community is all about.&nbsp\;</p>\n\n<p>---</p>\n\n<p>sweat + flow description: sweat + flow is our spin on a vinyasa/flow class. classes are set to music that will ebb and flow with your heart rate as we take you through breath work\, sun salutations\, yummy heart melting pose\, and everything in between. So come find your groove\, belt out a little Whitney Houston if it&#39\;s in you and let your to-do list melt away as you carve out one hour just for you.&nbsp\;&nbsp\;</p>\n
LOCATION:The Daily Sweat 65 Portland Road Building A\, Suite D Kennebunk\, Maine 04043
UID:e.1923.15718
SEQUENCE:3
DTSTAMP:20260424T113523Z
URL:https://chamber.gokennebunks.com/events/details/community-sweat-flow-07-31-2020-15718
END:VEVENT

END:VCALENDAR
