BEGIN:VCALENDAR
VERSION:2.0
PRODID:-//ChamberMaster//Event Calendar 2.0//EN
METHOD:PUBLISH
X-PUBLISHED-TTL:P3D
REFRESH-INTERVAL:P3D
CALSCALE:GREGORIAN
BEGIN:VEVENT
DTSTART:20250212T140000Z
DTEND:20250212T150000Z
X-MICROSOFT-CDO-ALLDAYEVENT:FALSE
SUMMARY:COMMUNITY CONNECTIONS
DESCRIPTION:Thursday\, February 12\, at 9:00 AM. Community Connections. We invite you to join us on Thursday at 9:00 AM for our "Community Connections" session. A member of the KEMS team will be here to talk about the benefits of having a non-profit ambulance service in Kennebunkport. Light refreshments will be provided. The Louis T. Graves Memorial Public Library is located at 18 Maine Street\, Kennebunkport. For further information\, please call 967-2778 or visit our website at www.graveslibrary.org.
X-ALT-DESC;FMTTYPE=text/html:<span style="font-family:arial\,sans-serif"><span style="font-size:12.0pt">Thursday\, February 12\, at 9:00 AM. <strong>Community Connections</strong>. We invite you to join us on Thursday at 9:00 AM for our &quot\;Community Connections&quot\; session. A member of the KEMS team will be here to talk about the benefits of having a non-profit ambulance service in Kennebunkport. Light refreshments will be provided. The Louis T. Graves Memorial Public Library is located at 18 Maine Street\, Kennebunkport. For further information\, please call 967-2778 or visit our website at </span></span><a href="http://www.graveslibrary.org/"><span style="color:windowtext"><span style="font-family:arial\,sans-serif"><span style="font-size:12pt">www.graveslibrary.org</span></span></span></a><span style="font-family:arial\,sans-serif"><span style="font-size:12.0pt">.</span></span>
LOCATION:The Louis T. Graves Memorial Public Library is located at 18 Maine Street\, Kennebunkport. For further information\, please call 967-2778 or visit our website at www.graveslibrary.org.
UID:e.1923.33101
SEQUENCE:3
DTSTAMP:20260420T230216Z
URL:https://chamber.gokennebunks.com/events/details/community-connections-02-12-2025-33101
END:VEVENT

END:VCALENDAR
