BEGIN:VCALENDAR
VERSION:2.0
PRODID:-//ChamberMaster//Event Calendar 2.0//EN
METHOD:PUBLISH
X-PUBLISHED-TTL:P3D
REFRESH-INTERVAL:P3D
CALSCALE:GREGORIAN
BEGIN:VEVENT
DTSTART:20250123T140000Z
DTEND:20250123T150000Z
X-MICROSOFT-CDO-ALLDAYEVENT:FALSE
SUMMARY:COMMUNITY CONNECTIONS
DESCRIPTION:Thursday\, January 23 at 9:00 AM. Community Connections. We invite you to join us on Thursday\, January 2nd\, at 9:00 am for our "Community Connections" session. Town Nurse Alison Kenneway will be here to talk about the public health department and all the benefits of having such an organization in our community. Light refreshments will be provided! The Louis T. Graves Memorial Public Library is located at 18 Maine Street\, Kennebunkport. For further information\, please call 967-2778 or visit our website at www.graveslibrary.org.
X-ALT-DESC;FMTTYPE=text/html:<span style="font-family:arial\,sans-serif">Thursday\, January 23 at 9:00 AM. <strong>Community Connections</strong>. We invite you to join us on Thursday\, January 2nd\, at 9:00 am for our &quot\;Community Connections&quot\; session. Town Nurse Alison Kenneway will be here to talk about the public health department and all the benefits of having such an organization in our community. Light refreshments will be provided! The Louis T. Graves Memorial Public Library is located at 18 Maine Street\, Kennebunkport. For further information\, please call 967-2778 or visit our website at www.graveslibrary.org.</span>
LOCATION:The Louis T. Graves Memorial Public Library is located at 18 Maine Street\, Kennebunkport. For further information\, please call 967-2778 or visit our website at www.graveslibrary.org.
UID:e.1923.31456
SEQUENCE:3
DTSTAMP:20260421T020259Z
URL:https://chamber.gokennebunks.com/events/details/community-connections-01-23-2025-31456
END:VEVENT

END:VCALENDAR
