BEGIN:VCALENDAR
VERSION:2.0
PRODID:-//ChamberMaster//Event Calendar 2.0//EN
METHOD:PUBLISH
X-PUBLISHED-TTL:P3D
REFRESH-INTERVAL:P3D
CALSCALE:GREGORIAN
BEGIN:VEVENT
DTSTART:20231013T213000Z
DTEND:20231013T230000Z
X-MICROSOFT-CDO-ALLDAYEVENT:FALSE
SUMMARY:COMMUNITY ART SHOW
DESCRIPTION:Friday\, October 13 at 5:30 PM. Community Art Show. Please join us on Friday\, October 13 at 5:30 for our latest showcase. The current pieces will hang in the Business Center through May 2024. Come celebrate our local talent and support our community artists. Fifty percent of all proceeds benefit the Library. Light refreshments will be served. The Artists at Graves Library exhibition will present a diverse range of artistic styles and mediums including acrylic abstractions\, watercolor landscapes\, mixed media\, and photography. Please call (207) 967-2778 for more information. Parking available at the Village Fire Station (North Street) and Consolidated School (Route 9). Louis T. Graves Memorial Public Library\, 18 Maine Street\, Kennebunkport. For further information\, please call 967-2778 or visit our website at www.graveslibrary.org.
X-ALT-DESC;FMTTYPE=text/html:Friday\, October 13 at 5:30 PM. Community Art Show. Please join us on Friday\, October 13 at 5:30 for our latest showcase.&nbsp\;The current pieces will hang in the Business Center through May 2024.&nbsp\;Come celebrate our local talent and support our community artists.&nbsp\;Fifty percent of all proceeds benefit the Library. Light refreshments will be served. The Artists at Graves Library exhibition will present a diverse range of artistic styles and mediums including acrylic abstractions\, watercolor landscapes\, mixed media\, and photography. Please call (207) 967-2778 for more information.&nbsp\;Parking available at the Village Fire Station (North Street) and Consolidated School (Route 9). Louis T. Graves Memorial Public Library\, 18 Maine Street\, Kennebunkport. For further information\, please call 967-2778 or visit our website at www.graveslibrary.org.
LOCATION:Louis T. Graves Memorial Public Library\, 18 Maine Street\, Kennebunkport.
UID:e.1923.22509
SEQUENCE:3
DTSTAMP:20260422T004714Z
URL:https://chamber.gokennebunks.com/events/details/community-art-show-22509
END:VEVENT

END:VCALENDAR
