BEGIN:VCALENDAR
VERSION:2.0
PRODID:-//ChamberMaster//Event Calendar 2.0//EN
METHOD:PUBLISH
X-PUBLISHED-TTL:P3D
REFRESH-INTERVAL:P3D
CALSCALE:GREGORIAN
BEGIN:VEVENT
DTSTART:20180505T140000Z
DTEND:20180505T210000Z
X-MICROSOFT-CDO-ALLDAYEVENT:FALSE
SUMMARY:Community Appreciation Day at Seashore Trolley Museum
DESCRIPTION:Community Appreciation Day-50% off admission for Residents of Arundel\, Saco\, Biddeford & the Kennebunks
X-ALT-DESC;FMTTYPE=text/html:<span style="font-family:gisha">Community Appreciation Day-50% off admission for Residents of Arundel\, Saco\, Biddeford &amp\; the Kennebunks </span><br />\n&nbsp\;
LOCATION:Seashore Trolley Museum\, 195 Log Cabin Road\, Kennebunkport
UID:e.1923.7209
SEQUENCE:3
DTSTAMP:20260425T155132Z
URL:https://chamber.gokennebunks.com/events/details/community-appreciation-day-at-seashore-trolley-museum-7209
END:VEVENT

END:VCALENDAR
