BEGIN:VCALENDAR
VERSION:2.0
PRODID:-//ChamberMaster//Event Calendar 2.0//EN
METHOD:PUBLISH
X-PUBLISHED-TTL:P3D
REFRESH-INTERVAL:P3D
CALSCALE:GREGORIAN
BEGIN:VEVENT
DTSTART:20250126T000000Z
DTEND:20250126T020000Z
X-MICROSOFT-CDO-ALLDAYEVENT:FALSE
SUMMARY:Comedian Karen Morgan
DESCRIPTION:Karen Morgan\, a celebrated comedian known for her engaging and relatable humor\, has captivated audiences with her latest CD\, Mean Candy\, featured on Sirius XM Radio. She has made notable appearances on Dry Bar Comedy and TV ads for Wal-Mart and Zyrtec\, and her comedy has garnered rave reviews from top venues across the country. A licensed attorney in Maine and Georgia\, Karen blends her professional insight with comedic talent. Living in Cumberland\, Maine\, she humorously reflects on her life: "Being a mom is like being a lawyer who also runs a daycare\, but with less evidence and more laundry!" Her unique perspective combines sharp wit with local charm\, making her performances both entertaining and resonant. Karen Morgan has received accolades for her clean\, family-friendly comedy and has been praised by venues like the Ronald McDonald House and Symphony Hall for her engaging presence. With a career marked by sold-out shows and enthusiastic reviews\, Karen Morgan's comedy is a must-see experience. Tickets are $25-$35\, with discounts for seniors\, students\, military veterans and season subscribers. Call the box office at (207) 206-1126\, or visit in person Tuesdays and Thursdays from 9 a.m.-noon.
X-ALT-DESC;FMTTYPE=text/html:Karen Morgan\, a celebrated comedian known for her engaging and relatable humor\, has captivated audiences with her latest CD\, Mean Candy\, featured on Sirius XM Radio. She has made notable appearances on Dry Bar Comedy and TV ads for Wal-Mart and Zyrtec\, and her comedy has garnered rave reviews from top venues across the country. A licensed attorney in Maine and Georgia\, Karen blends her professional insight with comedic talent. Living in Cumberland\, Maine\, she humorously reflects on her life: &ldquo\;Being a mom is like being a lawyer who also runs a daycare\, but with less evidence and more laundry!&rdquo\; Her unique perspective combines sharp wit with local charm\, making her performances both entertaining and resonant. Karen Morgan has received accolades for her clean\, family-friendly comedy and has been praised by venues like the Ronald McDonald House and Symphony Hall for her engaging presence. With a career marked by sold-out shows and enthusiastic reviews\, Karen Morgan&rsquo\;s comedy is a must-see experience. Tickets are $25-$35\, with discounts for seniors\, students\, military veterans and season subscribers. Call the box office at (207) 206-1126\, or visit in person Tuesdays and Thursdays from 9 a.m.-noon.
LOCATION:Sanford Performing Arts Center\, 100 Alumni Blvd.\, Sanford\, Maine
UID:e.1923.30972
SEQUENCE:3
DTSTAMP:20260421T003857Z
URL:https://chamber.gokennebunks.com/events/details/comedian-karen-morgan-30972
END:VEVENT

END:VCALENDAR
