BEGIN:VCALENDAR
VERSION:2.0
PRODID:-//ChamberMaster//Event Calendar 2.0//EN
METHOD:PUBLISH
X-PUBLISHED-TTL:P3D
REFRESH-INTERVAL:P3D
CALSCALE:GREGORIAN
BEGIN:VEVENT
DTSTART:20231125T000000Z
DTEND:20231125T020000Z
X-MICROSOFT-CDO-ALLDAYEVENT:FALSE
SUMMARY:COMEDIAN JUSTON MCKINNEY
DESCRIPTION:Recover from any Thanksgiving Day trauma with Comedian Juston McKinney! He's back by popular demand with humor that has landed him specials on "Comedy Central\," "Showtime\, Amazon Prime\," and multiple "Tonight Show" appearances. Last year\, McKinney split our sides with his show\, "Parentally Challenged." This year\, "Juston McKinney Live!" will dish up new laughs from his roots as a former York County Sheriff's Deputy before he traded in his badge for the dim comedy lounge lights of New York City. He quickly became a regular at Comic Strip Live\, Carolines on Broadway\, Stand-Up New York\, Dangerfield's\, and Gotham Comedy Club. $29-$32.
X-ALT-DESC;FMTTYPE=text/html:<span style="background-color:transparent\; color:rgb(0\, 0\, 0)\; font-family:trebuchet ms\,sans-serif\; font-size:11pt">Recover from any Thanksgiving Day trauma with Comedian Juston McKinney! He&rsquo\;s back by popular demand with humor that has landed him specials on &ldquo\;Comedy Central\,&rdquo\; &ldquo\;Showtime\, Amazon Prime\,&rdquo\; and multiple &ldquo\;Tonight Show&rdquo\; appearances. Last year\, McKinney split our sides with his show\, &ldquo\;Parentally Challenged.&rdquo\; This year\, &ldquo\;Juston McKinney Live!&rdquo\; will dish up new laughs from his roots as a former York County Sheriff&rsquo\;s Deputy&mdash\;before he traded in his badge for the dim comedy lounge lights of New York City. He quickly became a regular at Comic Strip Live\, Carolines on Broadway\, Stand-Up New York\, Dangerfield&rsquo\;s\, and Gotham Comedy Club. $29-$32.</span>
LOCATION:Sanford Performing Arts Center\, 100 Alumni Blvd.\, Sanford
UID:e.1923.22524
SEQUENCE:3
DTSTAMP:20260422T005052Z
URL:https://chamber.gokennebunks.com/events/details/comedian-juston-mckinney-11-24-2023-22524
END:VEVENT

END:VCALENDAR
