BEGIN:VCALENDAR
VERSION:2.0
PRODID:-//ChamberMaster//Event Calendar 2.0//EN
METHOD:PUBLISH
X-PUBLISHED-TTL:P3D
REFRESH-INTERVAL:P3D
CALSCALE:GREGORIAN
BEGIN:VEVENT
DTSTART:20230818T233000Z
DTEND:20230819T020000Z
X-MICROSOFT-CDO-ALLDAYEVENT:FALSE
SUMMARY:Comedian Juston McKinney
DESCRIPTION:A former Biddeford native (Cleaves Street!) and City Theater favorite\, Comedy Juston McKinney returns with lots of new material. He has multiple appearances on the Tonight Show\, Conan O'Brien\, both   hour and 1-hour specials on Comedy Central. He also has two one-hour specials you can currently watch on Amazon Prime. Throw in a couple of performances at the TD Garden for Comics Come Home with Denis Leary\, a Showtime Special with Rob Gronkowski and you can see why the New York Times called him "Destine for stardom" See this former Maine Deputy Sheriff turned comedian live at the City Theater celebrating summer in Maine. Not Allowed Please note that Show Coupons CANNOT be used for this event.
X-ALT-DESC;FMTTYPE=text/html:A former Biddeford native (Cleaves Street!) and City Theater favorite\, Comedy Juston McKinney returns with lots of new material. He has multiple appearances on the Tonight Show\, Conan O&rsquo\;Brien\, both &frac12\; hour and 1-hour specials on Comedy Central. He also has two one-hour specials you can currently watch on Amazon Prime. Throw in a couple of performances at the TD Garden for Comics Come Home with Denis Leary\, a Showtime Special with Rob Gronkowski and you can see why the New York Times called him &ldquo\;Destine for stardom&rdquo\; See this former Maine Deputy Sheriff turned comedian live at the City Theater celebrating summer in Maine. Not Allowed Please note that Show Coupons CANNOT be used for this event.
LOCATION:Biddeford City Theater
UID:e.1923.19339
SEQUENCE:3
DTSTAMP:20260422T050031Z
URL:https://chamber.gokennebunks.com/events/details/comedian-juston-mckinney-08-18-2023-19339
END:VEVENT

END:VCALENDAR
