BEGIN:VCALENDAR
VERSION:2.0
PRODID:-//ChamberMaster//Event Calendar 2.0//EN
METHOD:PUBLISH
X-PUBLISHED-TTL:P3D
REFRESH-INTERVAL:P3D
CALSCALE:GREGORIAN
BEGIN:VEVENT
DTSTART:20230727T120000Z
DTEND:20230727T130000Z
X-MICROSOFT-CDO-ALLDAYEVENT:FALSE
SUMMARY:Coffee and Conversation with the Chamber!
DESCRIPTION:The Kennebunk-Kennebunkport-Arundel Chamber of Commerce is excited to welcome you to our Coffee and Conversation event coming up on Thursday\, July 27 at 8am!\n\n\n\nJoin Laura\, Kristin and Jamie at The Blue Coffeehouse in Kennebunk for a FREE coffee and great conversation. \n\n\n\nOur Coffee and Conversation event series is designed to be an informal get together where businesses can learn more about the Chamber\, their membership and what's going on in our community.\n\nCurrent and prospective members are welcome to attend. \n\n\n\nPlease contact Kristin with any questions!
X-ALT-DESC;FMTTYPE=text/html:<p><span style="color:#000000\;"><span style="font-size:18px\;"><strong>The Kennebunk-Kennebunkport-Arundel Chamber of Commerce is excited to welcome you to our Coffee and Conversation event coming up on Thursday\, July 27 at 8am!</strong><br />\n<br />\nJoin Laura\, Kristin and Jamie at The Blue Coffeehouse in Kennebunk for a FREE coffee and great conversation.&nbsp\;<br />\n<br />\nOur Coffee and Conversation event series is designed to be an&nbsp\;informal get together where businesses can learn more about the Chamber\, their membership and what&#39\;s going on in our community.</span></span></p>\n\n<p><span style="color:#000000\;"><span style="font-size:18px\;">Current and prospective members are welcome to attend.&nbsp\;<br />\n<br />\nPlease contact Kristin with any questions!</span></span></p>\n
LOCATION:The Blue Coffeehouse 84 Main St.\, Kennebunk *The Blue just finished a BEAUTIFUL renovation too!
UID:e.1923.21503
SEQUENCE:3
DTSTAMP:20260422T050206Z
URL:https://chamber.gokennebunks.com/events/details/coffee-and-conversation-with-the-chamber-21503
END:VEVENT

END:VCALENDAR
