BEGIN:VCALENDAR
VERSION:2.0
PRODID:-//ChamberMaster//Event Calendar 2.0//EN
METHOD:PUBLISH
X-PUBLISHED-TTL:P3D
REFRESH-INTERVAL:P3D
CALSCALE:GREGORIAN
BEGIN:VEVENT
DTSTART:20250212T233000Z
DTEND:20250213T013000Z
X-MICROSOFT-CDO-ALLDAYEVENT:FALSE
SUMMARY:Cocktails and Cupcakes with Romantic Ghost Stories
DESCRIPTION:Join us at February 12th at 6:30pm and listen to romantic ghost stories that only Diane Lent can tell while sipping on signature cocktails and enjoying a decadent trio of mini cupcakes.\n\nAll proceeds go towards The Community Gourmet  to help them with their efforts to support those experiencing food insecurity.\n\nThis event is taking place at The Blue in Kennebunk.
X-ALT-DESC;FMTTYPE=text/html:Join us at February 12th at 6:30pm and listen to romantic ghost stories that only Diane Lent can tell while sipping on signature cocktails and enjoying a decadent trio of mini cupcakes.<br />\nAll proceeds go towards The Community Gourmet&nbsp\; to help them with their efforts to support those experiencing food insecurity.<br />\nThis event is taking place at The Blue in Kennebunk.
LOCATION:The Blue 84 Maine Street Kennebunk\, Maine 04043
UID:e.1923.33089
SEQUENCE:3
DTSTAMP:20260420T230624Z
URL:https://chamber.gokennebunks.com/events/details/cocktails-and-cupcakes-with-romantic-ghost-stories-02-12-2025-33089
END:VEVENT

END:VCALENDAR
