BEGIN:VCALENDAR
VERSION:2.0
PRODID:-//ChamberMaster//Event Calendar 2.0//EN
METHOD:PUBLISH
X-PUBLISHED-TTL:P3D
REFRESH-INTERVAL:P3D
CALSCALE:GREGORIAN
BEGIN:VEVENT
DTSTART:20251219T170000Z
DTEND:20260330T000000Z
X-MICROSOFT-CDO-ALLDAYEVENT:FALSE
SUMMARY:Coastal Lighthouse Village
DESCRIPTION:Escape to a winter retreat like no other at The Boathouse Waterfront Restaurant\, where the charm of Maine's rugged coastline meets the warmth of cozy seaside dining. Once again\, our waterfront deck is transforming into a Coastal Lighthouse Village on December 19th\, featuring four uniquely inspired dining havens: The Lighthouse\, The Innkeeper's Cottage\, The Lobster Shack\, and The Sail Loft. Step into one of these heated\, intimate spaces\, perfect for a private gathering with loved ones to indulge in festive drinks\, delicious bites\, and the soothing sounds of the winter waves. Reserve before your preferred dining time is gone! There is a 1.5-hour dining limit for your reservation. No Food & Beverage Minimum. Cancellations or no-shows without 24 hours' notice will incur a $25 charge per person.
X-ALT-DESC;FMTTYPE=text/html:Escape to a winter retreat like no other at The Boathouse Waterfront Restaurant\, where the charm of Maine&rsquo\;s rugged coastline meets the warmth of cozy seaside dining. Once again\, our waterfront deck is transforming into a Coastal Lighthouse Village on December 19th\, featuring four uniquely inspired dining havens: The Lighthouse\, The Innkeeper&rsquo\;s Cottage\, The Lobster Shack\, and The Sail Loft. Step into one of these heated\, intimate spaces\, perfect for a private gathering with loved ones to indulge in festive drinks\, delicious bites\, and the soothing sounds of the winter waves. Reserve before your preferred dining time is gone! There is a 1.5-hour dining limit for your reservation. No Food &amp\; Beverage Minimum. Cancellations or no-shows without 24 hours&#39\; notice will incur a $25 charge per person.
LOCATION:The Boathouse Waterfront Hotel 21 Ocean Ave Kennebunkport\, Maine 04046(opens in new window)
UID:e.1923.38211
SEQUENCE:3
DTSTAMP:20260421T180354Z
URL:https://chamber.gokennebunks.com/events/details/coastal-lighthouse-village-38211
END:VEVENT

END:VCALENDAR
