BEGIN:VCALENDAR
VERSION:2.0
PRODID:-//ChamberMaster//Event Calendar 2.0//EN
METHOD:PUBLISH
X-PUBLISHED-TTL:P3D
REFRESH-INTERVAL:P3D
CALSCALE:GREGORIAN
BEGIN:VEVENT
DTSTART:20250108T230000Z
DTEND:20250109T003000Z
X-MICROSOFT-CDO-ALLDAYEVENT:FALSE
SUMMARY:coastal event pop up
DESCRIPTION:this one is for the runners! join us for a pop up sweat + flow class at coastal run in scarborough. coastal run strives to inspire movement in everyone and encourage a healthy lifestyle. find your flow with the daily sweat + then peruse the shop for some fabulous footwear. class is $30 / person\, all attendees will receive a discount off their purchase + a free class at the daily sweat. space is limited\, grab your spot at https://coastalrunco.com/
X-ALT-DESC;FMTTYPE=text/html:<span style="color:rgb(34\, 34\, 34)\; font-family:docs-helvetica neue">this one is for the runners! join us for a pop up sweat + flow class at coastal run in scarborough. coastal run strives to inspire movement in everyone and encourage a healthy lifestyle. find your flow with the daily sweat + then peruse the shop for some fabulous footwear. class is $30 / person\, all attendees will receive a discount off their purchase + a free class at the daily sweat. space is limited\, grab your spot at </span><a class="waffle-rich-text-link" href="https://coastalrunco.com/" style="color: rgb(17\, 85\, 204)\; font-family: &quot\;docs-Helvetica Neue&quot\;\; white-space-collapse: preserve\; text-decoration-skip-ink: none\;">https://coastalrunco.com/</a>
LOCATION:65 portland rd\, kennebunk ME
UID:e.1923.31387
SEQUENCE:3
DTSTAMP:20260421T003238Z
URL:https://chamber.gokennebunks.com/events/details/coastal-event-pop-up-31387
END:VEVENT

END:VCALENDAR
