BEGIN:VCALENDAR
VERSION:2.0
PRODID:-//ChamberMaster//Event Calendar 2.0//EN
METHOD:PUBLISH
X-PUBLISHED-TTL:P3D
REFRESH-INTERVAL:P3D
CALSCALE:GREGORIAN
BEGIN:VEVENT
DTSTART:20240922T000000Z
DTEND:20240922T020000Z
X-MICROSOFT-CDO-ALLDAYEVENT:FALSE
SUMMARY:Co-Consipators presents: Stories Told Live
DESCRIPTION:GA Seated: $25 Advance | $35 Door\n\nFood Truck 5pm\n\nDoors 6pm | Show 7pm\n\n \n\n \n\nJoin us for food and drinks before the show in our outdoor garden starting at 5pm! \n\nThe night's food truck is TBD!\n\n \n\n \n\nCo-Conspirators bring Stories Told Live to Vinegar Hill!\n\n \n\nStories Told Live is a curated and coached storytelling event bringing real people with real stories in front of a live audience. The stories shared are real life experiences that explore the joys and tribulations of the human condition.\n\n \n\nThe Co-Conspirators work with storytellers to develop the narrative\, organize thought and deliver an impactful slice of life storytelling experience. With over a year and a half of bringing live storytelling to audiences in Portland\, Maine\, Stories Told Live is making their debut at Vinegar Hill!\n\n \n\n Learn more here.
X-ALT-DESC;FMTTYPE=text/html:<h4>GA Seated: $25 Advance | $35 Door</h4>\n\n<h4>Food Truck 5pm</h4>\n\n<h4>Doors 6pm | Show 7pm</h4>\n\n<p>&nbsp\;</p>\n\n<p>&nbsp\;</p>\n\n<p>Join us for food and drinks before the show in our outdoor garden starting at&nbsp\;<strong>5pm!&nbsp\;</strong></p>\n\n<p>The night&rsquo\;s food truck is<strong> TBD!</strong></p>\n\n<p>&nbsp\;</p>\n\n<p>&nbsp\;</p>\n\n<p><span style="background-color:transparent">Co-Conspirators bring Stories Told Live to Vinegar Hill!</span></p>\n\n<p>&nbsp\;</p>\n\n<p><span style="background-color:transparent">Stories Told Live is a curated and coached storytelling event bringing real people with real stories in front of a live audience. The stories shared are real life experiences that explore the joys and tribulations of the human condition.</span></p>\n\n<p>&nbsp\;</p>\n\n<p><span style="background-color:transparent">The Co-Conspirators work with storytellers to develop the narrative\, organize thought and deliver an impactful slice of life storytelling experience. With over a year and a half of bringing live storytelling to audiences in Portland\, Maine\, Stories Told Live is making their debut at Vinegar Hill!</span></p>\n\n<p>&nbsp\;</p>\n\n<p><em>&nbsp\;</em><a href="https://vinhillmusic.com/" rel="noopener noreferrer" style="background-color: transparent\; box-sizing: border-box\; color: rgb(255\, 255\, 255)\; text-decoration-line: none\; outline: none !important\;" target="_blank"><strong><em>Learn more here.</em></strong></a></p>\n
LOCATION:Vinegar Hill Music Theatre 53 Old Post Road Arundel\, Maine 04046
UID:e.1923.29889
SEQUENCE:3
DTSTAMP:20260421T100037Z
URL:https://chamber.gokennebunks.com/events/details/co-consipators-presents-stories-told-live-29889
END:VEVENT

END:VCALENDAR
