BEGIN:VCALENDAR
VERSION:2.0
PRODID:-//ChamberMaster//Event Calendar 2.0//EN
METHOD:PUBLISH
X-PUBLISHED-TTL:P3D
REFRESH-INTERVAL:P3D
CALSCALE:GREGORIAN
BEGIN:VEVENT
DTSTART:20210911T220000Z
DTEND:20210911T233000Z
X-MICROSOFT-CDO-ALLDAYEVENT:FALSE
SUMMARY:Club Cumming on the Coast: Vince Kelley + EJ Garlands
DESCRIPTION:Vince & EJ duet again! Join the two for an evening of double takes and seeing double you may think you "know him so well" but wait and see if\, in the end\, it really is "for good".\n~~~~~\n\n\n\nAbout Club Cumming on the Coast: Starting September 10th\, shows will occur weekly\, Fridays and Saturdays from 6-7:30pm. Reservations made during the performances are $105 per person and include a welcome cocktail and three-course dinner from The Burleigh. A portion of the proceeds going to The Actors Fund. If you would like to make a reservation for Club Cumming on the Coast\, please reserve the "Experience" for an evening show between 5-6pm. Please note: in the case of inclement weather\, performances will be moved indoors and reservations will be accommodated.\n\nTables at Club Cumming on the Coast are going fast! Make your reservations via OpenTable today\, or email dining@kennebunkportinn.com to be added to the waitlist.
X-ALT-DESC;FMTTYPE=text/html:<h2 style="font-style:italic\;"><strong>Vince &amp\; EJ duet again! Join the two for an evening of double takes and seeing double&hellip\;you may think you &ldquo\;know him so well&rdquo\; but wait and see if\, in the end\, it really is &ldquo\;for good&rdquo\;.</strong></h2>\n~~~~~<br />\n<br />\nAbout Club Cumming on the Coast: Starting September 10th\, shows will occur weekly\, Fridays and Saturdays from 6-7:30pm. Reservations made during the performances are $105 per person and include a welcome cocktail and three-course dinner from The Burleigh. A portion of the proceeds going to The Actors Fund. If you would like to make a reservation for Club Cumming on the Coast\, please reserve the &ldquo\;Experience&rdquo\; for an evening show between 5-6pm.&nbsp\;<em>Please note: in the case of inclement weather\, performances will be moved indoors and reservations will be accommodated.</em>\n\n<p>Tables at&nbsp\;Club Cumming on the Coast&nbsp\;are going fast! Make your reservations via&nbsp\;<a href="https://www.opentable.com/r/the-burleigh-kennebunkport">OpenTable</a>&nbsp\;today\, or email&nbsp\;<a href="mailto:dining@kennebunkportinn.com">dining@kennebunkportinn.com</a>&nbsp\;to be added to the waitlist.</p>\n
LOCATION:Club Cumming on the Coast at The Burleigh Kennebunkport Inn One Dock Square Kennebunkport\, Maine 04046
UID:e.1923.17125
SEQUENCE:3
DTSTAMP:20260425T003829Z
URL:https://chamber.gokennebunks.com/events/details/club-cumming-on-the-coast-vince-kelley-ej-garlands-09-11-2021-17125
END:VEVENT

END:VCALENDAR
