BEGIN:VCALENDAR
VERSION:2.0
PRODID:-//ChamberMaster//Event Calendar 2.0//EN
METHOD:PUBLISH
X-PUBLISHED-TTL:P3D
REFRESH-INTERVAL:P3D
CALSCALE:GREGORIAN
BEGIN:VEVENT
DTSTART:20190629T000000Z
DTEND:20190629T023000Z
X-MICROSOFT-CDO-ALLDAYEVENT:FALSE
SUMMARY:Classic Rock Orchestra
DESCRIPTION:Classic Rock Orchestra is back and ready to bring the roof down at Vinegar Hill! Classic Rock Orchestra presents the greatest rock anthems of the 70's and 80's live in concert with a rock band and full symphony orchestra. Featuring songs by Journey\, Heart\, Kansas\, Pat Benetar\, Boston\, E.L.O\, Stevie Nicks\, Toto and many more! Formulated by the creative team behind Piano Men   The Music of Elton and Billy.
X-ALT-DESC;FMTTYPE=text/html:Classic Rock Orchestra is back and ready to bring the roof down at Vinegar Hill! Classic Rock Orchestra presents the greatest rock anthems of the 70&rsquo\;s and 80&rsquo\;s live in concert with a rock band and full symphony orchestra. Featuring songs by Journey\, Heart\, Kansas\, Pat Benetar\, Boston\, E.L.O\, Stevie Nicks\, Toto and many more! Formulated by the creative team behind Piano Men &ndash\; The Music of Elton and Billy.
LOCATION:Vinegar Hill Music Theatre 53 Old Post Rd Arundel\, ME 04046
UID:e.1923.11541
SEQUENCE:3
DTSTAMP:20260424T205915Z
URL:https://chamber.gokennebunks.com/events/details/classic-rock-orchestra-11541
END:VEVENT

END:VCALENDAR
