BEGIN:VCALENDAR
VERSION:2.0
PRODID:-//ChamberMaster//Event Calendar 2.0//EN
METHOD:PUBLISH
X-PUBLISHED-TTL:P3D
REFRESH-INTERVAL:P3D
CALSCALE:GREGORIAN
BEGIN:VEVENT
DTSTART:20230722T000000Z
DTEND:20230722T020000Z
X-MICROSOFT-CDO-ALLDAYEVENT:FALSE
SUMMARY:Classic Rock Orchestra
DESCRIPTION:Come see for yourself why Classic Rock Orchestra sells out all of their shows at Vinegar Hill. This powerful performance promises all of the greatest rock anthems of the 70's and 80's live in concert\, featuring songs by Journey\, Heart\, Kansas\, Pat Benetar\, Boston\, E.L.O\, Stevie Nicks\, Toto and many more! Formulated by the creative team behind Piano Men   The Music of Elton and Billy\, this show is not to be missed!
X-ALT-DESC;FMTTYPE=text/html:<span style="background-color:rgb(36\, 37\, 38)\; color:rgb(228\, 230\, 235)\; font-family:segoe ui historic\,segoe ui\,helvetica\,arial\,sans-serif\; font-size:15px">Come see for yourself why Classic Rock Orchestra sells out all of their shows at Vinegar Hill. This powerful performance promises all of the greatest rock anthems of the 70&rsquo\;s and 80&rsquo\;s live in concert\, featuring songs by Journey\, Heart\, Kansas\, Pat Benetar\, Boston\, E.L.O\, Stevie Nicks\, Toto and many more! Formulated by the creative team behind Piano Men &ndash\; The Music of Elton and Billy\, this show is not to be missed!</span><span style="background-color:rgb(36\, 37\, 38)\; color:rgb(228\, 230\, 235)\; font-family:segoe ui historic\,segoe ui\,helvetica\,arial\,sans-serif\; font-size:15px">&nbsp\;</span>
LOCATION:Vinegar Hill Music Theatre 53 Old Post Road Arundel\, Maine 04046 Tel: 207-985-5552
UID:e.1923.18411
SEQUENCE:3
DTSTAMP:20260422T062916Z
URL:https://chamber.gokennebunks.com/events/details/classic-rock-orchestra-07-21-2023-18411
END:VEVENT

END:VCALENDAR
