BEGIN:VCALENDAR
VERSION:2.0
PRODID:-//ChamberMaster//Event Calendar 2.0//EN
METHOD:PUBLISH
X-PUBLISHED-TTL:P3D
REFRESH-INTERVAL:P3D
CALSCALE:GREGORIAN
BEGIN:VEVENT
DTSTART:20180901T140000Z
DTEND:20180920T210000Z
X-MICROSOFT-CDO-ALLDAYEVENT:FALSE
SUMMARY:Claire Bigbee\, Ingunn Joergensen\, and John Lecours Show
DESCRIPTION:Art Show for Claire Bigbee\, Ingunn Joergensen\, and John Lecours Artist Reception on Saturday\, September 1st from 5 PM to 7 PM
X-ALT-DESC;FMTTYPE=text/html:Art Show for Claire Bigbee\, Ingunn Joergensen\, and John Lecours Artist Reception on Saturday\, September 1st from 5 PM to 7 PM
LOCATION:Shows at Maine Art Hill
UID:e.1923.9790
SEQUENCE:3
DTSTAMP:20260425T104136Z
URL:https://chamber.gokennebunks.com/events/details/claire-bigbee-ingunn-joergensen-and-john-lecours-show-9790
END:VEVENT

END:VCALENDAR
