BEGIN:VCALENDAR
VERSION:2.0
PRODID:-//ChamberMaster//Event Calendar 2.0//EN
METHOD:PUBLISH
X-PUBLISHED-TTL:P3D
REFRESH-INTERVAL:P3D
CALSCALE:GREGORIAN
BEGIN:VEVENT
DTSTART;VALUE=DATE:20240808
DTEND;VALUE=DATE:20240810
TRANSP:TRANSPARENT
X-MICROSOFT-CDO-ALLDAYEVENT:TRUE
SUMMARY:Circus Smirkus 2024 Big Top Tour
DESCRIPTION:Don't miss Circus Smirkus\, Vermont's award-winning\, traveling youth circus\, where kids   ages 11 to 18   are the stars\, featured in aerial acts\, acrobatics\, clowning\, juggling and so much more! Step into a world of whimsy and wonder\, as Circus Smirkus celebrates playfulness\, discovery\, and childlike curiosity with the 2024 Big Top Tour: The Imaginarium. A magical toy shop comes to life with tumbling teddy bears\, high-flying marionettes\, and a very mischievous Jack-in-the-Box\, in this awe-inspiring and laughter-filled production. The circus is coming to Kennebunkport\, ME\, August 8th and 9th! There are shows at 1pm & 6pm on August 8th and 9th. The shows run approximately 2 hours and include an intermission. All shows are accessible to those with disabilities. Tickets are available now at smirkus.org.
X-ALT-DESC;FMTTYPE=text/html:Don&rsquo\;t miss Circus Smirkus\, Vermont&rsquo\;s award-winning\, traveling youth circus\, where kids &ndash\; ages 11 to 18 &ndash\; are the stars\, featured in aerial acts\, acrobatics\, clowning\, juggling and so much more! Step into a world of whimsy and wonder\, as Circus Smirkus celebrates playfulness\, discovery\, and childlike curiosity with the 2024 Big Top Tour: The Imaginarium. A magical toy shop comes to life with tumbling teddy bears\, high-flying marionettes\, and a very mischievous Jack-in-the-Box\, in this awe-inspiring and laughter-filled production. The circus is coming to Kennebunkport\, ME\, August 8th and 9th! There are shows at 1pm &amp\; 6pm on August 8th and 9th. The shows run approximately 2 hours and include an intermission. All shows are accessible to those with disabilities. Tickets are available now at smirkus.org.
LOCATION:Rockin' Horse\, 245 Arundel Rd\, Kennebunkport\, ME\, 04046
UID:e.1923.25397
SEQUENCE:3
DTSTAMP:20260421T124308Z
URL:https://chamber.gokennebunks.com/events/details/circus-smirkus-2024-big-top-tour-25397
END:VEVENT

END:VCALENDAR
