BEGIN:VCALENDAR
VERSION:2.0
PRODID:-//ChamberMaster//Event Calendar 2.0//EN
METHOD:PUBLISH
X-PUBLISHED-TTL:P3D
REFRESH-INTERVAL:P3D
CALSCALE:GREGORIAN
BEGIN:VEVENT
DTSTART:20230810T170000Z
DTEND:20230811T220000Z
X-MICROSOFT-CDO-ALLDAYEVENT:FALSE
SUMMARY:CIRCUS SMIRKUS 2023 NEW ENGLAND TOUR : KENNEBUNKPORT SHOWS
DESCRIPTION:August 10th and 11th\, Kennebunkport\, ME 4 shows at Rockin' Horse 1pm and 6pm Each Day Presented by Kennebunkport Consolidated PTA Don't miss Circus Smirkus\, Vermont's award-winning\, traveling youth circus\, where kids   ages 11 to 18   are the stars\, featured in aerial acts\, acrobatics\, clowning\, juggling and so much more! Circus Smirkus's 36th annual production is an exquisite acrobatic adaptation of Shakespeare's beloved comedy that will leave you awe-inspired and utterly enchanted! Enter the dream-like forest and let your imagination run away with the circus! Circus Smirkus brings magic and mayhem\, love and chaos under the big top with the 2023 Big Top Tour: A Midsummer Night's Circus. Trouble ensues when our cast of thirty talented youth cross paths with the king and queen of the fairies\, their fantastical court\, and the chief mischief-maker\, Puck! FAQ: Circus Smirkus is a 501c3 organization Shows run approximately 2 hours All shows are accessible to those with disabilities. Tickets on sale now. Big Top Tour Schedule & Tickets http://www.smirkus.org/about-big-top-tour/
X-ALT-DESC;FMTTYPE=text/html:August 10th and 11th\, Kennebunkport\, ME 4 shows at Rockin&#39\; Horse 1pm and 6pm Each Day Presented by Kennebunkport Consolidated PTA Don&rsquo\;t miss Circus Smirkus\, Vermont&rsquo\;s award-winning\, traveling youth circus\, where kids &ndash\; ages 11 to 18 &ndash\; are the stars\, featured in aerial acts\, acrobatics\, clowning\, juggling and so much more! Circus Smirkus&rsquo\;s 36th annual production is an exquisite acrobatic adaptation of Shakespeare&rsquo\;s beloved comedy that will leave you awe-inspired and utterly enchanted! Enter the dream-like forest and let your imagination run away with the circus! Circus Smirkus brings magic and mayhem\, love and chaos under the big top with the 2023 Big Top Tour: A Midsummer Night&rsquo\;s Circus. Trouble ensues when our cast of thirty talented youth cross paths with the king and queen of the fairies\, their fantastical court\, and the chief mischief-maker\, Puck! FAQ: Circus Smirkus is a 501c3 organization Shows run approximately 2 hours All shows are accessible to those with disabilities. Tickets on sale now. Big Top Tour Schedule &amp\; Tickets http://www.smirkus.org/about-big-top-tour/
LOCATION:Rockin' Horse : 245 Arundel Rd\, Kennebunkport\, ME 04046
UID:e.1923.20880
SEQUENCE:3
DTSTAMP:20260422T050630Z
URL:https://chamber.gokennebunks.com/events/details/circus-smirkus-2023-new-england-tour-kennebunkport-shows-20880
END:VEVENT

END:VCALENDAR
