BEGIN:VCALENDAR
VERSION:2.0
PRODID:-//ChamberMaster//Event Calendar 2.0//EN
METHOD:PUBLISH
X-PUBLISHED-TTL:P3D
REFRESH-INTERVAL:P3D
CALSCALE:GREGORIAN
BEGIN:VEVENT
DTSTART:20171201T230000Z
DTEND:20171202T030000Z
X-MICROSOFT-CDO-ALLDAYEVENT:FALSE
SUMMARY:Christmas Prelude Ugly Sweater Party
DESCRIPTION:FREE Admission\n\nKickoff the holiday season in "style" by donning your ugliest sweater and dancing the night away to live music from one of our favorite party bands. Pizza\, cocktails\, and desserts will all be available for purchase.
X-ALT-DESC;FMTTYPE=text/html:<span style="color:#202020"><span style="font-family:helvetica\,sans-serif"><span style="font-size:12.0pt"><strong>FREE Admission</strong><br />\nKickoff the holiday season in &ldquo\;style&rdquo\; by donning your ugliest sweater and dancing the night away to live music from one of our favorite party bands. Pizza\, cocktails\, and desserts will all be available for purchase.</span></span></span>
LOCATION:The Boathouse Waterfront Hotel 21 Ocean Avenue\, Kennebunkport
UID:e.1923.6980
SEQUENCE:3
DTSTAMP:20260425T222829Z
URL:https://chamber.gokennebunks.com/events/details/christmas-prelude-ugly-sweater-party-6980
END:VEVENT

END:VCALENDAR
