BEGIN:VCALENDAR
VERSION:2.0
PRODID:-//ChamberMaster//Event Calendar 2.0//EN
METHOD:PUBLISH
X-PUBLISHED-TTL:P3D
REFRESH-INTERVAL:P3D
CALSCALE:GREGORIAN
BEGIN:VEVENT
DTSTART:20191214T150000Z
DTEND:20191214T203000Z
X-MICROSOFT-CDO-ALLDAYEVENT:FALSE
SUMMARY:Christmas Prelude Trolley Rides
DESCRIPTION:Make new memories this holiday season! Come out to the Seashore Trolley Museum for rides on heated\, decked out trolleys on our private heritage railroad.\n\n\n\nTickets are $10/person (Friday-Sunday) and $7/person (Tuesday and Thursday) and include warm\, gooey chocolate chip cookies and luscious hot chocolate! Children two and under are free.\n\n\n\nPrelude Trolley Rides will be offered every 30 minutes on the following dates and times:\n\n\n\nFriday\, December 6th through Sunday\, December 8th: 10AM-3:30PM each day\n\n\n\nTuesday\, December 10th & Thursday\, December 12th: 10AM-1:30PM (admission also includes a festive craft and story for all ages included a perfect group activity!)\n\n\n\nFriday\, December 13th through Sunday\, December 15th: 10AM-3:30PM each day\n\n\n\nPurchase Tickets at the door\, or online at https://trolleymuseum.org/events/2019-12/\n\n\n\nLocated at 195 Log Cabin Road in Kennebunkport\, the Seashore Trolley Museum is the world's oldest and largest electric railway and transit museum. \n\n\n\nFor more information\, please visit www.trolleymuseum.org or call\, 207-967-2800 x111 or email director@neerhs.org.
X-ALT-DESC;FMTTYPE=text/html:Make new memories this holiday season! Come out to the Seashore Trolley Museum for rides on heated\, decked out trolleys on our private heritage railroad.<br />\n<br />\nTickets are $10/person (Friday-Sunday) and $7/person (Tuesday and Thursday) and include warm\, gooey chocolate chip cookies and luscious hot chocolate! Children two and under are free.<br />\n<br />\nPrelude Trolley Rides will be offered every 30 minutes on the following dates and times:<br />\n<br />\nFriday\, December 6th through Sunday\, December 8th: 10AM-3:30PM each day<br />\n<br />\nTuesday\, December 10th &amp\; Thursday\, December 12th: 10AM-1:30PM (admission also includes a festive craft and story for all ages included&mdash\;a perfect group activity!)<br />\n<br />\nFriday\, December 13th through Sunday\, December 15th: 10AM-3:30PM each day<br />\n<br />\nPurchase Tickets at the door\, or online at https://trolleymuseum.org/events/2019-12/<br />\n<br />\nLocated at 195 Log Cabin Road in Kennebunkport\, the Seashore Trolley Museum is the world&rsquo\;s oldest and largest electric railway and transit museum.&nbsp\;<br />\n<br />\nFor more information\, please visit www.trolleymuseum.org or call\, 207-967-2800 x111 or email director@neerhs.org.&nbsp\;
LOCATION:Seashore Trolley Museum 195 Log Cabin Road Kennebunkport\, ME 04046
UID:e.1923.15540
SEQUENCE:3
DTSTAMP:20260424T114413Z
URL:https://chamber.gokennebunks.com/events/details/christmas-prelude-trolley-rides-12-14-2019-15540
END:VEVENT

END:VCALENDAR
