BEGIN:VCALENDAR
VERSION:2.0
PRODID:-//ChamberMaster//Event Calendar 2.0//EN
METHOD:PUBLISH
X-PUBLISHED-TTL:P3D
REFRESH-INTERVAL:P3D
CALSCALE:GREGORIAN
BEGIN:VEVENT
DTSTART;VALUE=DATE:20231203
DTEND;VALUE=DATE:20231204
TRANSP:TRANSPARENT
X-MICROSOFT-CDO-ALLDAYEVENT:TRUE
SUMMARY:Christmas Prelude Trolley Rides
DESCRIPTION:Ride on heated\, decked out trolleys!  Free hot chocolate\, SANTA and more. Check out www.trolleymuseum.org for the details and online ticket link as the event gets closer and be sure to purchase tickets in advance of your visit.
X-ALT-DESC;FMTTYPE=text/html:<span style="font-family:merriweather\,georgia\,times new roman\,times\,serif\; font-size:16px">Ride on heated\, decked out trolleys!&nbsp\; Free hot chocolate\, SANTA and more. Check out <a href="http://www.trolleymuseum.org">www.trolleymuseum.org</a> for the details and online ticket link as the event gets closer and be sure to purchase tickets in advance of your visit.</span>
LOCATION:Seashore Trolley Museum 195 Log Cabin Road Kennebunkport\, ME 04046
UID:e.1923.19116
SEQUENCE:3
DTSTAMP:20260421T221438Z
URL:https://chamber.gokennebunks.com/events/details/christmas-prelude-trolley-rides-12-03-2023-19116
END:VEVENT

END:VCALENDAR
