BEGIN:VCALENDAR
VERSION:2.0
PRODID:-//ChamberMaster//Event Calendar 2.0//EN
METHOD:PUBLISH
X-PUBLISHED-TTL:P3D
REFRESH-INTERVAL:P3D
CALSCALE:GREGORIAN
BEGIN:VEVENT
DTSTART:20241214T170000Z
DTEND:20241215T020000Z
X-MICROSOFT-CDO-ALLDAYEVENT:FALSE
SUMMARY:Christmas Prelude Sushi Lunch at Rosella
DESCRIPTION:Enjoy a front row seat to all the Saturday afternoon Christmas Prelude festivities with lunch at Rosella KPT in Kennebunk\, beginning at 12pm! Enjoy the best sushi in town with outstanding service and a unique ambiance. Experience the flavor and atmosphere that only Rosella can bring to an unforgettable meal.\n\n\n	Saturday\, December 7th   12-9pm\n	Saturday\, December 14th   12-9pm
X-ALT-DESC;FMTTYPE=text/html:<p>Enjoy a front row seat to all the Saturday afternoon Christmas Prelude festivities with lunch at Rosella KPT in Kennebunk\, beginning at 12pm! Enjoy the best sushi in town with outstanding service and a unique ambiance. Experience the flavor and atmosphere that only Rosella can bring to an unforgettable meal.</p>\n\n<ul>\n	<li>Saturday\, December 7th &ndash\; 12-9pm</li>\n	<li>Saturday\, December 14th &ndash\; 12-9pm</li>\n</ul>\n
LOCATION:Rosella KPT (at the Grand Hotel) 1 Chase Hill Road Kennebunk\, Maine 04043
UID:e.1923.29788
SEQUENCE:3
DTSTAMP:20260421T021023Z
URL:https://chamber.gokennebunks.com/events/details/christmas-prelude-sushi-lunch-at-rosella-12-14-2024-29788
END:VEVENT

END:VCALENDAR
