BEGIN:VCALENDAR
VERSION:2.0
PRODID:-//ChamberMaster//Event Calendar 2.0//EN
METHOD:PUBLISH
X-PUBLISHED-TTL:P3D
REFRESH-INTERVAL:P3D
CALSCALE:GREGORIAN
BEGIN:VEVENT
DTSTART:20241205T200000Z
DTEND:20241206T010000Z
X-MICROSOFT-CDO-ALLDAYEVENT:FALSE
SUMMARY:Christmas Prelude Murder Mystery Dinner at Cape Arundel Inn & Resort
DESCRIPTION:Don your Venetian masks and rustle some feathers with the allure of a mysterious holly jolly evening during our Christmas Prelude Murder Mystery Dinner on Thursday\, December 5\, 2024. Dress in your finest silk and shine your shoes as you embark on a thrilling night filled with intrigue\, suspense\, and holiday spirit at the Billionaires' Club Annual Masquerade Ball. Your adventure begins with a gourmet three-course dinner at Ocean\; as you savor exquisite cuisine\, you'll become part of an interactive and suspenseful storyline\, working with other guests to unravel the mystery and unmask the killer. Every twist and turn will keep you on the edge of your seat\, adding an extra layer of excitement to your dining experience. Costumes + participation encouraged! Includes 3-course dinner\, interactive mystery show with actors\, and light costuming.\n\nYour hotel package includes:\n\n\n	15% discount on a one night stay Thursday\, December 5th\n	Three-course dinner for two at Ocean\n	Interactive Mystery Show with actors with light costuming\n\nBOOK YOUR STAY NOW
X-ALT-DESC;FMTTYPE=text/html:<p>Don your Venetian masks and rustle some feathers with the allure of a mysterious holly jolly evening during our <strong>Christmas Prelude Murder Mystery Dinner on Thursday\, December 5\, 2024</strong>. Dress in your finest silk and shine your shoes as you embark on a thrilling night filled with intrigue\, suspense\, and holiday spirit at the&nbsp\;<em>Billionaires&rsquo\; Club Annual Masquerade Ball</em>. Your adventure begins with a gourmet three-course dinner at Ocean\; as you savor exquisite cuisine\, you&#39\;ll become part of an interactive and suspenseful storyline\, working with other guests to unravel the mystery and unmask the killer. Every twist and turn will keep you on the edge of your seat\, adding an extra layer of excitement to your dining experience. Costumes + participation encouraged! Includes 3-course dinner\, interactive mystery show with actors\, and light costuming.</p>\n\n<p>Your hotel package includes:</p>\n\n<ul>\n	<li>15% discount on a one night stay Thursday\, December 5<span style="font-size:13.5px">th</span></li>\n	<li>Three-course dinner for two at Ocean</li>\n	<li>Interactive Mystery Show with actors with light costuming</li>\n</ul>\n<a href="https://www.capearundelinn.com/maine-resort-packages"><strong>BOOK YOUR STAY NOW</strong></a>
LOCATION:Cape Arundel Inn & Resort 208 Ocean Avenue Kennebunkport\, Maine 04046
UID:e.1923.29710
SEQUENCE:3
DTSTAMP:20260421T021023Z
URL:https://chamber.gokennebunks.com/events/details/christmas-prelude-murder-mystery-dinner-at-cape-arundel-inn-resort-29710
END:VEVENT

END:VCALENDAR
