BEGIN:VCALENDAR
VERSION:2.0
PRODID:-//ChamberMaster//Event Calendar 2.0//EN
METHOD:PUBLISH
X-PUBLISHED-TTL:P3D
REFRESH-INTERVAL:P3D
CALSCALE:GREGORIAN
BEGIN:VEVENT
DTSTART:20241207T150000Z
DTEND:20241207T190000Z
X-MICROSOFT-CDO-ALLDAYEVENT:FALSE
SUMMARY:Christmas Prelude Brunch at Via Sophia by the Sea
DESCRIPTION:Our popular weekend brunch returns for Christmas Prelude.\n\n\n	First Weekend\n	\n		Saturday\, December 7th   10a-2pm\n		Sunday\, December 8th   10a-2pm\n	\n	\n	Second Weekend\n	\n		Saturday\, December 14th   10a-2pm\n		Sunday\, December 15th   10a-2pm\n	\n	\n\n\nReservations recommended!
X-ALT-DESC;FMTTYPE=text/html:<p style="text-align:justify">Our popular weekend brunch returns for Christmas Prelude.</p>\n\n<ul>\n	<li>First Weekend\n	<ul>\n		<li>Saturday\, December 7th &ndash\; 10a-2pm</li>\n		<li>Sunday\, December 8th &ndash\; 10a-2pm</li>\n	</ul>\n	</li>\n	<li>Second Weekend\n	<ul>\n		<li>Saturday\, December 14th &ndash\; 10a-2pm</li>\n		<li>Sunday\, December 15th &ndash\; 10a-2pm</li>\n	</ul>\n	</li>\n</ul>\n\n<p><a href="https://www.opentable.com/r/via-sophia-by-the-sea-kennebunk-me-reservations-kennebunkport?restref=1220578&amp\;lang=en-US&amp\;ot_source=KRC-website&amp\;ot_campaign=Prelude-2024" style="box-sizing: border-box\; text-decoration-line: none\; background-color: transparent\; color: rgb(0\, 38\, 77)\; transition: 0.3s ease-in-out\;" target="_blank">Reservations recommended!</a></p>\n
LOCATION:Via Sophia by the Sea 27 Western Avenue Kennebunk\, Maine 04043
UID:e.1923.29772
SEQUENCE:3
DTSTAMP:20260421T021124Z
URL:https://chamber.gokennebunks.com/events/details/christmas-prelude-brunch-at-via-sophia-by-the-sea-29772
END:VEVENT

END:VCALENDAR
