BEGIN:VCALENDAR
VERSION:2.0
PRODID:-//ChamberMaster//Event Calendar 2.0//EN
METHOD:PUBLISH
X-PUBLISHED-TTL:P3D
REFRESH-INTERVAL:P3D
CALSCALE:GREGORIAN
BEGIN:VEVENT
DTSTART;VALUE=DATE:20190725
DTEND;VALUE=DATE:20190726
TRANSP:TRANSPARENT
X-MICROSOFT-CDO-ALLDAYEVENT:TRUE
SUMMARY:Christmas in July at The Daily Sweat
DESCRIPTION:The elves are heading to Kennebunk as we decorate for a memorable day at the studio. There will be FREE classes all day so sign up soon to reserve your spot + bring your friends. We'll have giveaways in each class\, retail specials and light refreshments throughout the day.
X-ALT-DESC;FMTTYPE=text/html:<span style="font-family:tahoma"><span style="color:rgb(38\, 51\, 51)\; font-size:16px">The elves are heading to Kennebunk as we decorate for a memorable day at the studio. There will be FREE classes all day so sign up soon to reserve your spot + bring your friends. We&#39\;ll have giveaways in each class\, retail specials and light refreshments throughout the day.</span></span>
LOCATION:65 Portland Road Building A\, Unit D Kennebunk\, ME 04043
UID:e.1923.13388
SEQUENCE:3
DTSTAMP:20260424T194749Z
URL:https://chamber.gokennebunks.com/events/details/christmas-in-july-at-the-daily-sweat-13388
END:VEVENT

END:VCALENDAR
