BEGIN:VCALENDAR
VERSION:2.0
PRODID:-//ChamberMaster//Event Calendar 2.0//EN
METHOD:PUBLISH
X-PUBLISHED-TTL:P3D
REFRESH-INTERVAL:P3D
CALSCALE:GREGORIAN
BEGIN:VEVENT
DTSTART;VALUE=DATE:20220725
DTEND;VALUE=DATE:20220726
TRANSP:TRANSPARENT
X-MICROSOFT-CDO-ALLDAYEVENT:TRUE
SUMMARY:christmas in july
DESCRIPTION:all day - why? because we can! we'll have the studio decorated so it's merry + bright. wear your green\, red + white! class is a $5 drop-in so sign up soon to reserve your spot + bring your friends. we'll have raffles + retail specials throughout the day
X-ALT-DESC;FMTTYPE=text/html:all day - why? because we can! we&rsquo\;ll have the studio decorated so it&rsquo\;s merry + bright. wear your green\, red + white! class is a $5 drop-in so sign up soon to reserve your spot + bring your friends. we&#39\;ll have raffles + retail specials throughout the day
LOCATION:The Daily Sweat 65 Portland Rd Building A Unit D\, Kennebunk\, ME 04043
UID:e.1923.17537
SEQUENCE:3
DTSTAMP:20260419T175704Z
URL:https://chamber.gokennebunks.com/events/details/christmas-in-july-07-25-2022-17537
END:VEVENT

END:VCALENDAR
