BEGIN:VCALENDAR
VERSION:2.0
PRODID:-//ChamberMaster//Event Calendar 2.0//EN
METHOD:PUBLISH
X-PUBLISHED-TTL:P3D
REFRESH-INTERVAL:P3D
CALSCALE:GREGORIAN
BEGIN:VEVENT
DTSTART;VALUE=DATE:20250625
DTEND;VALUE=DATE:20250626
TRANSP:TRANSPARENT
X-MICROSOFT-CDO-ALLDAYEVENT:TRUE
SUMMARY:christmas in july
DESCRIPTION:it's our favorite day of the year! Join us for our annual Christmas in July party. grab your Santa hat and rock around the christmas tree with us. Plus\, we're stocking the boutique with retail deals + steals. Classes are just $5 - bring your friends for a little holiday magic too!
X-ALT-DESC;FMTTYPE=text/html:it&rsquo\;s our favorite day of the year! Join us for our annual Christmas in July party. grab your Santa hat and rock around the christmas tree with us. Plus\, we&rsquo\;re stocking the boutique with retail deals + steals. Classes are just $5 - bring your friends for a little holiday magic too!
LOCATION:65 Portland RD\, Kennebunk ME\, 04043
UID:e.1923.35908
SEQUENCE:3
DTSTAMP:20260421T182730Z
URL:https://chamber.gokennebunks.com/events/details/christmas-in-july-06-25-2025-35908
END:VEVENT

END:VCALENDAR
