BEGIN:VCALENDAR
VERSION:2.0
PRODID:-//ChamberMaster//Event Calendar 2.0//EN
METHOD:PUBLISH
X-PUBLISHED-TTL:P3D
REFRESH-INTERVAL:P3D
CALSCALE:GREGORIAN
BEGIN:VEVENT
DTSTART:20171210T200000Z
DTEND:20171210T211500Z
X-MICROSOFT-CDO-ALLDAYEVENT:FALSE
SUMMARY:Christmas Carols Concert\, with Violin\, Voice and Organ
DESCRIPTION:Enjoy a concert of traditional Christmas music and carols presented by Megan Grassi\, violin\; Monica Bridges\, vocalist\; and Joyce Painter Rice\, organist/pianist in Kennebunkport's beautiful First Congregational Church.
X-ALT-DESC;FMTTYPE=text/html:Enjoy a concert of traditional Christmas music and carols presented by Megan Grassi\, violin\; Monica Bridges\, vocalist\; and Joyce Painter Rice\, organist/pianist in Kennebunkport&rsquo\;s beautiful First Congregational Church.
LOCATION:First Congregational Church\, 141 North St.\, Kennebunkport
UID:e.1923.6946
SEQUENCE:3
DTSTAMP:20260425T222858Z
URL:https://chamber.gokennebunks.com/events/details/christmas-carols-concert-with-violin-voice-and-organ-6946
END:VEVENT

END:VCALENDAR
