BEGIN:VCALENDAR
VERSION:2.0
PRODID:-//ChamberMaster//Event Calendar 2.0//EN
METHOD:PUBLISH
X-PUBLISHED-TTL:P3D
REFRESH-INTERVAL:P3D
CALSCALE:GREGORIAN
BEGIN:VEVENT
DTSTART:20180609T140000Z
DTEND:20180628T210000Z
X-MICROSOFT-CDO-ALLDAYEVENT:FALSE
SUMMARY:Choice Art Show
DESCRIPTION:14 Artists with 6 pieces of art chosen by them for this event. All will be on display together in one show!
X-ALT-DESC;FMTTYPE=text/html:14 Artists with 6 pieces of art chosen by them for this event. All will be on display together in one show!
LOCATION:Shows at Maine Art Hill
UID:e.1923.9786
SEQUENCE:3
DTSTAMP:20260425T143124Z
URL:https://chamber.gokennebunks.com/events/details/choice-art-show-9786
END:VEVENT

END:VCALENDAR
