BEGIN:VCALENDAR
VERSION:2.0
PRODID:-//ChamberMaster//Event Calendar 2.0//EN
METHOD:PUBLISH
X-PUBLISHED-TTL:P3D
REFRESH-INTERVAL:P3D
CALSCALE:GREGORIAN
BEGIN:VEVENT
DTSTART:20231118T150000Z
DTEND:20231118T180000Z
X-MICROSOFT-CDO-ALLDAYEVENT:FALSE
SUMMARY:Children's Business Fair
DESCRIPTION:Please come walk through the Children's Business Fair and purchase some of the handmade items made by these incredible kids. We are inspiring the next generation of entrepreneurs and hope that you'll join us! If your child is interested in joining the fair\, please have them apply on our website: https://www.childrensbusinessfair.org/kennebunk-acton
X-ALT-DESC;FMTTYPE=text/html:Please come walk through the Children&#39\;s Business Fair and purchase some of the handmade items made by these incredible kids. We are inspiring the next generation of entrepreneurs and hope that you&#39\;ll join us! If your child is interested in joining the fair\, please have them apply on our website: https://www.childrensbusinessfair.org/kennebunk-acton
LOCATION:Temple St (across from the post office) Kennebunkport\, ME
UID:e.1923.23047
SEQUENCE:3
DTSTAMP:20260421T232909Z
URL:https://chamber.gokennebunks.com/events/details/children-s-business-fair-23047
END:VEVENT

END:VCALENDAR
